BEGIN:VCALENDAR
PRODID:NingEventWidget-v1
VERSION:2.0
METHOD:PUBLISH
BEGIN:VEVENT
UID:2508951:Event:13929
DTSTAMP:20260421T000527Z
SUMMARY:click here for WEDNESDAY'S BAND / EVENTS LISTING
DESCRIPTION:Abbey Road - VB - OPEN STAGE /\"DAVID PETRETTO\nChrysler M
 useum Of Art - LIVE JAZZ SERIES - Norfolk 6:15pm \"VINNIE KNIGHT\"\nFi
 nn McCools - VB \"JACK BECKER\nH2O - VB \"NATURE'S CHILD\nHot Tuna - V
 B \"SNACKBAR JONES\nJewish Mother - VB \"ACADEMY OF ROCK\nKeagans - To
 wn Center - VB \"JESSE CHONG\" 10pm\nKokoamos - VB \"PLASTIC EDDIE\nMo
  & O'Malleys - Norfolk \"DAVE CRUMPLER\"\nMurphy's Irish Pub - VB \"JA
 MES WEST\"\nSan Antonio Sams - Ghent - Norfolk \"LEWIS McGEHEE\" 7-10p
 m\nSouth Beach Grill - VB \"POWER PLAY\"\nThirsty Camel - Norfolk \"BO
 RDERLINE CRAZY ACOUSTIC\"\nTiki Seagrille - Sandbridge Rd - VB \"H M J
 OHNSON\nOUTDOOR EVENTS\n31st STREET STAGE\" - VB \"JANITORS\n\nFor mor
 e information visit https://vbnightlife.com/events/click-here-for-wedn
 esdays-band-7
DTSTART:20090527T040000Z
DTEND:20090528T035900Z
CATEGORIES:band, dj
LOCATION:Virginia Beach / Norfolk
WEBSITE:
URL:
CONTACT:
ORGANIZER;CN="Nicole Maxino":https://vbnightlife.com/profile/NicoleMax
 ino
ATTACH;FMTTYPE="image/jpeg":http://storage.ning.com/topology/rest/1.0/
 file/get/1664075004?profile=original
ATTENDEE;ROLE=REQ-PARTICIPANT;PARTSTAT=ACCEPTED;RSVP=TRUE;CN="Nicole M
 axino":https://vbnightlife.com/profile/NicoleMaxino
END:VEVENT
END:VCALENDAR
