BEGIN:VCALENDAR
PRODID:NingEventWidget-v1
VERSION:2.0
METHOD:PUBLISH
BEGIN:VEVENT
UID:2508951:Event:12850
DTSTAMP:20260425T130051Z
SUMMARY:click here for WEDNESDAY'S BAND / EVENTS LISTING
DESCRIPTION:757 - THE JRB\nAbbey Road - VB - OPEN STAGE /\"DAVID PETRE
 TTO\"\nCabo Cafe -\nCatch 31 - 10 SPOT\nCentral 111 - DJ STEVE ABITBOL
  AND DJ KRISTOS\nChrysler Museum Of Art - LIVE JAZZ SERIES - Norfolk 6
 :15pm \"SWING TIME\"\nFinn McCool's - JACK BECKER\nGil's Bar and Grill
 \nH2O - VB \"NATURE'S CHILD\"\nHalf Shell\nHot Tuna - VB \"SNACKBAR JO
 NES\"\nJalapenos - Smithfield \"DON HAMLETT\" + \"JOEY MARADE\" 7:30pm
 \nJewish Mother - TALENT SHOW\nKeagans - town center - JESSE CHONG\nKi
 ncaids - Norfolk \"LEWIS McGEHEE\"\nKokoamos - VB \"KATE & DAVE ACOUST
 ICS\nMurphy's Irish Pub - JAMES WEST\nNorva - Norfolk \"ALKALINE TRIO 
 + SAVES THE DAY\nRed Rock Lounge - NN \"COME IN TOKYO\"\nSmithfield St
 ation \"JOE MANISCALCO\"\nSouth Beach Grill - VB \"HOTCAKES\"\nTiki Se
 agrille - Sandbridge Rd - VB \"RHONDELS\nUpper Deck - FREE DANCE LESSO
 NS - DJ\n\nFor more information visit https://vbnightlife.com/events/c
 lick-here-for-wednesdays-band-4
DTSTART:20090506T040000Z
DTEND:20090507T035900Z
CATEGORIES:band, dj
LOCATION:Virginia Beach
WEBSITE:
URL:
CONTACT:
ORGANIZER;CN="Nicole Maxino":https://vbnightlife.com/profile/NicoleMax
 ino
ATTACH;FMTTYPE="image/jpeg":http://storage.ning.com/topology/rest/1.0/
 file/get/1664074657?profile=original
ATTENDEE;ROLE=REQ-PARTICIPANT;PARTSTAT=ACCEPTED;RSVP=TRUE;CN="Nicole M
 axino":https://vbnightlife.com/profile/NicoleMaxino
END:VEVENT
END:VCALENDAR
