BEGIN:VCALENDAR
PRODID:NingEventWidget-v1
VERSION:2.0
METHOD:PUBLISH
BEGIN:VEVENT
UID:2508951:Event:24683
DTSTAMP:20260422T044403Z
SUMMARY:click here for WEDNESDAY'S BAND / NIGHTLIFE / EVENTS LISTING
DESCRIPTION:37th & Zen - N *WEDNESDAY DJ NIGHT*\nAbbey Road - VB \"OPE
 N STAGE W/WARREN SEABURG\"\nAJ Gators - VB Holland Rd. *KARAOKE* w/Sco
 tty 9pm\nAJ Gators - N Granby St *DJ WHIT* 9pm\nAJ Gators - N Ward's C
 orner *KARAOKE* 9pm\nBayside Inn - VB *KARAOKE W/ULYSSES JOHNSON* 8:30
 pm\nBrass Bell - VB *KARAOKE*\nCentral 111 - VB - French Kiss w/ DJ ST
 EVE ABITBOL AND DJ ADD4RIGHT\nChicho's Strawbridge - VB \"JOE HEILMAN 
 ACOUSTICS\"\nChrysler Hall - N \"ROGER DALTRY\" 7:30pm $45-100\nDeja B
 lu a Jazz Supper Club - VB \"AS 1\" 8pm\nDocker's Restaurant & Karaoke
  Pub - VB *KARAOKE* 9pm\nFat Tuesdays - VB *KARAOKE*\nFly N Fishbone H
 ouse of Jazz - VB *BLUES IN THE HOUSE* 7:30pm $5\nGuadalajara City Caf
 e - N *DIVA WEDNESDAY'S* \"NAS DJ\" 9:30pm\nHalf Shell - VB *OPEN MIKE
  W/ UNDER CURRENT*\nHarrison House - N \"THE DAUGHTER OF THE REGIMENT\
 "\nHot Tuna - VB \"SNACKBAR JONES\"\nLuxury Brown - VB *KARAOKE*Harris
 on House - N \"THE DAUGHTER OF THE REGIMENT\"\nMurphy's Irish Pub - VB
  \"JAMES WEST\"\nNorva - N \"TAKING BACK SUNDAY & ALL AMERICAN REJECTS
  W/ ANBERLIN\" 6:30pm $35\nSammy’s - VB *KARAOKE*\nSandler Center - 
 VB \"MENDELSSOHN AT 200\" 3pm\nSecrets - VB *KARAOKE*\nSmokehouse and 
 Cooler -VB \"CHAMPAGNE SOIREE\" 7pm\nSouth Beach Grill - VB \"JANITORS
 \" 8pm\nStarz - VB *KARAOKE*\nSurf Club on 57th Street - VB *FALL WINE
  TASTINGS* 6-10pm $10\nUpper Deck - VB *VB SHAG CLUB MIX & MINGLE DANC
 E* 6:15pm\nWing King - VB *KARAOKE*\n\nFor more information visit http
 s://vbnightlife.com/events/click-here-for-wednesdays-band-22
DTSTART:20091118T050000Z
DTEND:20091119T045900Z
CATEGORIES:band, dj
LOCATION:Virginia Beach / Norfolk
WEBSITE:
URL:
CONTACT:
ORGANIZER;CN="VBnightlife.com":https://vbnightlife.com/profile/admin
ATTACH;FMTTYPE="image/jpeg":http://storage.ning.com/topology/rest/1.0/
 file/get/1664091910?profile=original
ATTENDEE;ROLE=REQ-PARTICIPANT;PARTSTAT=ACCEPTED;RSVP=TRUE;CN="VBnightl
 ife.com":https://vbnightlife.com/profile/admin
END:VEVENT
END:VCALENDAR
