BEGIN:VCALENDAR
PRODID:NingEventWidget-v1
VERSION:2.0
METHOD:PUBLISH
BEGIN:VEVENT
UID:2508951:Event:146990
DTSTAMP:20260424T074128Z
SUMMARY:Click here for WEDNESDAY'S VIRGINIA BEACH ENTERTAINMENT LISTIN
 G
DESCRIPTION:\nENTERTAINMENT:Bookings can change at the last minute, so
  we recommend checking with the venue before heading out! 7th St. Stag
 e - BORDERLINE CRAZY 6-10PM13th St. Stage - THE LIFE & MUSIC OF ELLA F
 ITZGERALD  7-10PM31st St. Stage - SYMPHONICITY *GO WEST, AMERICA!*  
 7:30-9PMH2O - LEWIS MCGEHEE  9PMHot Tuna – SNACKBAR JONESIl Giardin
 o – BILLY BATTE 7PMJewish Mother Hilltop - *MIDWEEK SOCIAL* 8PMSandl
 er Center Outdoor Plaza - *YNOT WEDNESDAYS* FEAT. JESSE CHONG  5-9PMS
 idestreet Cantina - THE GOONS OF DOOM  10PMSouth Beach Grill – VINY
 L HEADLIGHTS  9PMSwell - *VBNIGHTLIFE LADIES NIGHT* FEAT. JAMES DEANS
   6-9PM THEATRE/FUNDRAISERS/CONCERTS/SPORTS:Tiki Island - COMEDY FAC
 TORY 8:30PMVirginia Beach Oceanfront - EAST COAST SURFING CHAMPIONSHIP
 S   DJ’S/KARAOKE/DANCES:Abbey Road – *BEATLES KARAOKE* w/ TIM BE
 ASLEY as JOHN LENNON 9:30PMBoneshakers - *KARAOKE*Brass Bell - *KARAOK
 E* 9PMChicho’s 29th - *KARAOKE* The Edge – DJ RAW BASE  10PMFat T
 uesday’s - *KARAOKE*Funny Bone Comedy Club - DJDOYOTHANGHarry O’s 
 – HARRY-OKE 9PM (Ages 25+)Max & Erma’s - *KARAOKE*Parlays - *KARAO
 KE*Poppa’s Pub - *KARAOKE* 9:30PMReef Lounge - *KARAOKE*  9PMRetro 
 Cafe - DEEJAY B EZZY  10PM  *BEER PONG WET BALLS WEDNESDAYS*Scandals
  - *KARAOKE*  8PMScooter’s - *KARAOKE*Seaboard Sports Bar - *KARAOK
 E*Shaka’s - *MILE HIGH CLUB* w/ BURN E MAC + OH!BOY + 666AM  10PM 
  ($5/10)Smackwater Jack’s - *KARAOKE*Upper Deck – MIX N MINGLE *
 SHAG DANCE* 6-7:30PMWing King - *OPEN MIC w/ SUZY TAYLOR*  10PMFAMILY
  FUN/SPECIAL EVENTS:17th St. Stage - CIRCUS IN THE PARK  7:30-10:30PM
 20th Street – BEACHSTREET FIREWORKS  10PM24th St. Stage - KRENDL & 
 COMPANY MAGICAL VARIETY SHOW  7:30-10:30PMBarnes & Noble Lynnhaven - 
 STORYTIME & CRAFTS  10:30-11:30AMOld Coast Guard Station - STORYTIME 
 w/ GRANDMA BEACH  11AM-12PMSandler Center Outdoor Plaza - *YNOT WEDNE
 SDAYS* FARMERS MARKET  5-9PMVirginia Aquarium - “DISCOVER THE WOODS
 ” WILDLIFE SEARCH  10AM-4PM  (WEATHER PERMITTING)\n \nCLICK HERE 
 REACH OUR VENUE'S PAGE TO FIND ADDRESSES AND PHONE NUMBERS OF PLACES L
 ISTED\nCLICK HERE FOR OUR BAND/DJ PAGE TO FIND DESCRIPTION OF THE BAND
 S AND LINKS TO THEIR WEB PAGES\n\n\nFor more information visit https:/
 /vbnightlife.com/events/click-here-for-wednesdays-379
DTSTART:20110824T040000Z
DTEND:20110825T035900Z
CATEGORIES:"virginia beach", "virginia beach events", "virginia beach 
 bands", "virginia beach entertainment"
LOCATION:Virginia Beach
WEBSITE:
URL:
CONTACT:
ORGANIZER:VBnightlife.com / VBdaylife.com
ATTACH;FMTTYPE="image/jpeg":http://storage.ning.com/topology/rest/1.0/
 file/get/1664144772?profile=original
ATTENDEE;ROLE=REQ-PARTICIPANT;PARTSTAT=ACCEPTED;RSVP=TRUE;CN="VBnightl
 ife.com":https://vbnightlife.com/profile/admin
END:VEVENT
END:VCALENDAR
