BEGIN:VCALENDAR
PRODID:NingEventWidget-v1
VERSION:2.0
METHOD:PUBLISH
BEGIN:VEVENT
UID:2508951:Event:71704
DTSTAMP:20260420T152838Z
SUMMARY:Click here for WEDNESDAY'S ENTERTAINMENT LISTING
DESCRIPTION:\nCLICK HERE REACH OUR VENUE'S PAGE TO FIND ADDRESSES AND
  PHONE NUMBERS OF PLACES LISTED\nCLICK HERE FOR OUR BAND/DJ PAGE TO F
 IND DESCRIPTION OF THE BANDS AND LINKS TO THEIR WEB PAGES\nENTERTAINME
 NT:Bookings can change at the last minute, so check with the club befo
 re you head out\nAbbey Road - OPEN MIC w/ WARREN SEABURG\nBayside Inn 
 - CHRIS GRIGSBY 8:30PM\nThe Boxx - INSIDE JUPITER\nGuadalajara Town Ce
 nter - WE NEVER SLEEP W/ GAVIN HOLLAND AND WEOK\nH2O - BORDERLINE CRAZ
 Y 6PM\nHot Tuna - SNACKBAR JONES\nHybrifit Wine Social Open House - 6P
 M - live music by Mitch Foutz \nSouth Beach Grill - VB \"HOTCAKES\"\
 n \nTHEATRE/FUNDRAISERS/CONCERTS/SPORTS:\n \nDJ'S/KARAOKE/DANCES:\nG
 arrison's Bar and Grille - *DJ PLATEAU* 10PM\nParlay's - *TNT KARAOKE*
 \n \n\nFor more information visit https://vbnightlife.com/events/clic
 k-here-for-wednesdays-323
DTSTART:20110302T050000Z
DTEND:20110303T045900Z
CATEGORIES:band, "/", dj
LOCATION:VIRGINIA BEACH
WEBSITE:
URL:
CONTACT:
ORGANIZER;CN="VBnightlife.com":https://vbnightlife.com/profile/admin
ATTACH;FMTTYPE="image/jpeg":http://storage.ning.com/topology/rest/1.0/
 file/get/1664132438?profile=original
ATTENDEE;ROLE=REQ-PARTICIPANT;PARTSTAT=ACCEPTED;RSVP=TRUE;CN="VBnightl
 ife.com":https://vbnightlife.com/profile/admin
END:VEVENT
END:VCALENDAR
