BEGIN:VCALENDAR
PRODID:NingEventWidget-v1
VERSION:2.0
METHOD:PUBLISH
BEGIN:VEVENT
UID:2508951:Event:79411
DTSTAMP:20260421T162937Z
SUMMARY:Click here for WEDNESDAY'S VIRGINIA BEACH ENTERTAINMENT LISTIN
 G
DESCRIPTION:\nVIEW BASEBALL AND HOCKEY SCHEDULES IN NORFOLK BY CLICKIN
 G HERE\nCLICK HERE REACH OUR VENUE'S PAGE TO FIND ADDRESSES AND PHONE 
 NUMBERS OF PLACES LISTED\nCLICK HERE FOR OUR BAND/DJ PAGE TO FIND DESC
 RIPTION OF THE BANDS AND LINKS TO THEIR WEB PAGES\nENTERTAINMENT:\nBoo
 kings can change at the last minute, so we recommend checking with the
  venue before heading out!\nChemistry – *JELL-O WRESTLING*\nGeared U
 p Rock Bar – BRENT SHEPARD 8-11PM\nHot Tuna – SNACKBAR JONES\nIl G
 iardino – BILLY BATTE 7PM\nMurphy’s – VAL LITTLE  10PM \nSouth
  Beach Grill – POWER PLAY\nWing King – SUZY B. TAYLOR\n \nTHEATRE
 /FUNDRAISERS/CONCERTS/SPORTS:\n \nDJ’S/KARAOKE/DANCES:\nAbbey Road 
 –OPEN STAGE 8:30PM\nBoneshakers - *KARAOKE*\nBrass Bell - *KARAOKE* 
 9PM\nThe Edge – DJ RAW BASE\nFat Tuesday’s - *KARAOKE*\nHarry O’
 s – HARRY-OKE 9PM (Ages 25+)\nParlays - *KARAOKE*\nReef Lounge - *KA
 RAOKE*  9PM\nSeaboard Sports Bar - *KARAOKE*\nScooter’s - *KARAOKE*
 \nShakas – DJ PHRANTIK + OH!BOY + 666 AM + SPLATTERHOUSE  10PM  ($
 5/10)\nSmackwater Jack’s - *KARAOKE*\nUpper Deck – MIX N MINGLE *S
 HAG DANCE* 6-7:30PM\nWing King - *OPEN MIC w/ SUZY TAYLOR*  10PM\n\n\
 nFor more information visit https://vbnightlife.com/events/click-here-
 for-wednesdays-247
DTSTART:20110427T040000Z
DTEND:20110428T035900Z
CATEGORIES:"virginia beach", "virginia beach events", "virginia beach 
 bands", "virginia beach entertainment"
LOCATION:VIRGINIA BEACH
WEBSITE:
URL:
CONTACT:
ORGANIZER:VBnightlife.com / VBdaylife.com
ATTACH;FMTTYPE="image/jpeg":http://storage.ning.com/topology/rest/1.0/
 file/get/1664131964?profile=original
ATTENDEE;ROLE=REQ-PARTICIPANT;PARTSTAT=ACCEPTED;RSVP=TRUE;CN="VBnightl
 ife.com":https://vbnightlife.com/profile/admin
END:VEVENT
END:VCALENDAR
