BEGIN:VCALENDAR
PRODID:NingEventWidget-v1
VERSION:2.0
METHOD:PUBLISH
BEGIN:VEVENT
UID:2508951:Event:146768
DTSTAMP:20260423T154057Z
SUMMARY:Click here for WEDNESDAY'S VIRGINIA BEACH ENTERTAINMENT LISTIN
 G
DESCRIPTION:\nCLICK HERE REACH OUR VENUE'S PAGE TO FIND ADDRESSES AND 
 PHONE NUMBERS OF PLACES LISTED\nCLICK HERE FOR OUR BAND/DJ PAGE TO FIN
 D DESCRIPTION OF THE BANDS AND LINKS TO THEIR WEB PAGES\n \nENTERTAIN
 MENT:\nBookings can change at the last minute, so we recommend checkin
 g with the venue before heading out!\n7th St. Stage - WAIT TIL FRIDAY 
  6-10PM13th St. Stage - THE LIFE & MUSIC OF ELLA FITZGERALD  7-10PM2
 4th St. Stage - TIDEWATER WINDS *BIG BAND SWINGIN’ SOIREE*  7:30-9:
 30PM31st St. Stage - RIGHT ON BAND  6-10PMBaja Sandbridge - HOTCAKESC
 heeseburger In Paradise - BROKE BY SUNDAY TRIO  6PMH2O - LEWIS MCGEHE
 E  7-10PM\nHot Tuna – SNACKBAR JONES\nIl Giardino – BILLY BATTE 7
 PM\nKeagan’s - JESSE CHONG  10PM\nLighthouse Beachside Grille - ED 
 KELLEHER  8-11PM\n\nSouth Beach - BUTTER  9PM\nSwell - BRANDON BOWER
   8PM\nSandler Center Outdoor Plaza - *YNOT WEDNESDAYS* FEAT. BRIAN S
 EWELL  5-8PMStringer’s - MIKE DEMOSS  8-11PMSurf Club Ocean Grille
  - *NORTH END WINE CLUB WINE TASTING* FEAT. JAMES DEANS  6-8PM\nTHEA
 TRE/FUNDRAISERS/CONCERTS/SPORTS:DJ’S/KARAOKE/DANCES:\nAbbey Road –
  *BEATLES KARAOKE* w/ TIM BEASLEY as JOHN LENNON 9:30PM\nBoneshakers -
  *KARAOKE*Brass Bell - *KARAOKE* 9PM\nCentral 111 - DJ JT KING + MARK 
 Z + STEEVE ABITBOL  8PM\nChicho’s 29th - *KARAOKE*\nThe Edge – DJ
  RAW BASE\nFat Tuesday’s - *KARAOKE*Harry O’s – HARRY-OKE 9PM (A
 ges 25+)Lunasea - DJ DeFF  10PM\nMax & Erma’s - *KARAOKE*\nParlays 
 - *KARAOKE*\nPoppa’s Pub - *KARAOKE* 9:30PM\nReef Lounge - *KARAOKE*
   9PM\nRetro Cafe - DEEJAY B EZZY  10PM  *BEER PONG WET BALLS WEDNE
 SDAYS*\nSeaboard Sports Bar - *KARAOKE*\nScooter’s - *KARAOKE*\nShak
 a’s - *MILE HIGH CLUB*  (ELECTRO/BANGERZ/BOUNCE)  10PM  ($5/10)\n
 Smackwater Jack’s - *KARAOKE*\nUpper Deck – MIX N MINGLE *SHAG DAN
 CE* 6-7:30PM\nWing King - *OPEN MIC w/ SUZY TAYLOR*  10PM\nFAMILY FUN
 /SPECIAL EVENTS:\n20th Street – BEACHSTREET FIREWORKS  10PMBarnes &
  Noble Lynnhaven - STORYTIME & CRAFTS  10:30-11:30AMOld Coast Guard S
 tation - STORYTIME w/ GRANDMA BEACH  11AM-12PMSandler Center Outdoor 
 Plaza - *YNOT WEDNESDAYS* FARMERS MARKET  5-9PMVirginia Aquarium - 
 DISCOVER THE WOODS” WILDLIFE SEARCH  10AM-4PM  (WEATHER PERMITTIN
 G)\n\nHAPPY HOUR/DAILY SPECIALS:\nJewish Mother Hilltop - *HAPPY HOUR*
  $2, $3, $4 drink specials and special Tapas menu 4-7PM \n\nFor more i
 nformation visit https://vbnightlife.com/events/click-here-for-wednesd
 ays-191
DTSTART:20110720T040000Z
DTEND:20110721T035900Z
CATEGORIES:"virginia beach", "virginia beach events", "virginia beach 
 bands", "virginia beach entertainment"
LOCATION:Virginia Beach
WEBSITE:
URL:
CONTACT:
ORGANIZER:VBnightlife.com / VBdaylife.com
ATTACH;FMTTYPE="image/jpeg":http://storage.ning.com/topology/rest/1.0/
 file/get/1664143558?profile=original
ATTENDEE;ROLE=REQ-PARTICIPANT;PARTSTAT=ACCEPTED;RSVP=TRUE;CN="VBnightl
 ife.com":https://vbnightlife.com/profile/admin
END:VEVENT
END:VCALENDAR
