BEGIN:VCALENDAR
PRODID:NingEventWidget-v1
VERSION:2.0
METHOD:PUBLISH
BEGIN:VEVENT
UID:2508951:Event:79237
DTSTAMP:20260423T120330Z
SUMMARY:Click here for WEDNESDAY'S VIRGINIA BEACH ENTERTAINMENT LISTIN
 G
DESCRIPTION:\nVIEW BASEBALL SCHEDULES IN NORFOLK BY CLICKING HERE\nCLI
 CK HERE REACH OUR VENUE'S PAGE TO FIND ADDRESSES AND PHONE NUMBERS OF
  PLACES LISTED\nCLICK HERE FOR OUR BAND/DJ PAGE TO FIND DESCRIPTION O
 F THE BANDS AND LINKS TO THEIR WEB PAGES\nENTERTAINMENT:\nBookings can
  change at the last minute, so we recommend checking with the venue be
 fore heading out!\nAshley’s Bistro – DOUG DUNN  8-11PM\nKeagan’
 s – BORDERLINE CRAZY  9PM\nHot Tuna – SNACKBAR JONES\nIl Giardino
  – BILLY BATTE 7PM\nSandler Center – BOZ SCAGGS 7:30PM\nSouth Beac
 h Grill – HOTCAKES 9PM\nSwell – HEATHER JEANETTE  9:30PM\n \nTHE
 ATRE/FUNDRAISERS/CONCERTS/SPORTS:\nHookah Me Up – COMEDY SHOWCASE TH
 EATER 7-9PM\n \nDJ’S/KARAOKE/DANCES:\nAbbey Road –OPEN STAGE 8:30
 PM\nThe Boxx – DJ HOUNDS + DJ EAGLE CLAW  9PM\nBoneshakers - *KARAO
 KE*\nBrass Bell - *KARAOKE* 9PM\nThe Edge – DJ RAW BASE\nFat Tuesday
 ’s - *KARAOKE*\nGarrison’s – DJ PLATEAU  10PM\nParlays - *KARAO
 KE*\nSeaboard Sports Bar - *KARAOKE*\nScooter’s - *KARAOKE*\nSmackwa
 ter Jack’s - *KARAOKE*\nUpper Deck – MIX N MINGLE *SHAG DANCE* 6-7
 :30PM\nWing King - *OPEN MIC w/ SUZY TAYLOR*  10PM\n\n\nFor more info
 rmation visit https://vbnightlife.com/events/click-here-for-wednesdays
 -161
DTSTART:20110406T040000Z
DTEND:20110407T035900Z
CATEGORIES:"virginia beach", "virginia beach events", "virginia beach 
 bands", "virginia beach entertainment"
LOCATION:VIRGINIA BEACH
WEBSITE:
URL:
CONTACT:
ORGANIZER:VBnightlife.com / VBdaylife.com
ATTACH;FMTTYPE="image/jpeg":http://storage.ning.com/topology/rest/1.0/
 file/get/1664137096?profile=original
ATTENDEE;ROLE=REQ-PARTICIPANT;PARTSTAT=ACCEPTED;RSVP=TRUE;CN="VBnightl
 ife.com":https://vbnightlife.com/profile/admin
END:VEVENT
END:VCALENDAR
