BEGIN:VCALENDAR
PRODID:NingEventWidget-v1
VERSION:2.0
METHOD:PUBLISH
BEGIN:VEVENT
UID:2508951:Event:102407
DTSTAMP:20260424T184924Z
SUMMARY:Click here for WEDNESDAY'S VIRGINIA BEACH ENTERTAINMENT LISTIN
 G
DESCRIPTION:\nCLICK HERE REACH OUR VENUE'S PAGE TO FIND ADDRESSES AND 
 PHONE NUMBERS OF PLACES LISTED\nCLICK HERE FOR OUR BAND/DJ PAGE TO FIN
 D DESCRIPTION OF THE BANDS AND LINKS TO THEIR WEB PAGES\nENTERTAINMENT
 :Bookings can change at the last minute, so we recommend checking with
  the venue before heading out!17th St. Stage – MOTORPHYSIC  8-10:30
 PM31st St. Stage - MONKEYBOOTY  6-10PM501 City Grill – BORDERLINE C
 RAZY 8-11:30PMHot Tuna – SNACKBAR JONESIl Giardino – BILLY BATTE 7
 PMSouth Beach Grill – VINYL HEADLIGHTS  9PMTHEATRE/FUNDRAISERS/CONC
 ERTS/SPORTS:VIEW BASEBALL SCHEDULES IN NORFOLK BY CLICKING HEREFunny B
 one - DREW THOMAS APOLLO NIGHT 10:30PMDJ’S/KARAOKE/DANCES:Abbey Road
  – *BEATLES OPEN MIC* w/ TIM BEASLEY as JOHN LENNON 9:30PMBoneshaker
 s - *KARAOKE*Brass Bell - *KARAOKE* 9PMThe Edge – DJ RAW BASEFat Tue
 sday’s - *KARAOKE*Harry O’s – HARRY-OKE 9PM (Ages 25+)Max & Erma
 ’s - *KARAOKE*Parlays - *KARAOKE*Reef Lounge - *KARAOKE*  9PMRetro 
 Cafe - DEEJAY B EZZY  10PM  *BEER PONG WET BALLS WEDNESDAYS*Seaboard
  Sports Bar - *KARAOKE*Scooter’s - *KARAOKE*Smackwater Jack’s - *K
 ARAOKE*Upper Deck – MIX N MINGLE *SHAG DANCE* 6-7:30PMWing King - *O
 PEN MIC w/ SUZY TAYLOR*  10PMFAMILY FUN/SPECIAL EVENTS:Historic Villa
 ges at Cape Henry – SPRING FIELD TRIP  10AM-12PMVirginia Aquarium -
  “DISCOVER THE WOODS” WILDLIFE SEARCH  10AM-4PM  (WEATHER PERMIT
 TING)HAPPY HOUR/FOOD SPECIALS:21st St. Tiki Bar - $2 DOMESTICS, $2.50 
 IMPORTS & WELL DRINKS, LARGE PIZZA + PITCHER BEER = $13.99 4-9PM || $1
  JELLO SHOTS, $1.50 MICKEYS/PBR/NATTY, $4 JAGER/FIREBALL/FLAVORED VODK
 A MONSTER BOMBSBoneshaker’s – HAPPY HOUR 11AM-7PM\n\nFor more info
 rmation visit https://vbnightlife.com/events/click-here-for-wednesdays
 -128
DTSTART:20110608T040000Z
DTEND:20110609T035900Z
CATEGORIES:"virginia beach", "virginia beach events", "virginia beach 
 bands", "virginia beach entertainment"
LOCATION:Virginia Beach
WEBSITE:
URL:
CONTACT:
ORGANIZER:VBnightlife.com / VBdaylife.com
ATTACH;FMTTYPE="image/jpeg":http://storage.ning.com/topology/rest/1.0/
 file/get/1664143156?profile=original
ATTENDEE;ROLE=REQ-PARTICIPANT;PARTSTAT=ACCEPTED;RSVP=TRUE;CN="VBnightl
 ife.com":https://vbnightlife.com/profile/admin
END:VEVENT
END:VCALENDAR
