BEGIN:VCALENDAR
PRODID:NingEventWidget-v1
VERSION:2.0
METHOD:PUBLISH
BEGIN:VEVENT
UID:2508951:Event:208646
DTSTAMP:20260424T091858Z
SUMMARY:Click here for WEDNESDAY12/12/12 VIRGINIA BEACH ENTERTAINMENT 
 LISTINGS
DESCRIPTION:LIVE ENTERTAINMENT/ DJ’S/ KARAOKE:\n501 City Grill- Snac
 kbar Jones\n7 Martini & Tapas- Brent Shepard\n11th Street Taphouse- Jo
 e Heilman\nAbbey Rd.- Open Stage\nBayside Bar & Grill-DJ/Ladies Night\
 nCalypso- Jesse Chong\nCentral 111- DJ\nFinn McCools- No Charge\nFrog 
 Sports Bar & Grill- DJ Herb\nGrumpys- Karaoke\nHot Tuna- OH Boy\nIl Gi
 ardino's – Billy Batte\nKeagans- Brandon Bower Band\nPortside Inn-Ka
 raoke\nSouth Beach Grill- Vinyl Headlights\nWing King- Open Mic\nWoody
  McGees Barstro  - Dustin Furlow\n \n \nSPECIAL EVENTS/CONCERTS/ FE
 STIVALS:\nMcDonalds Holiday Lights at the Beach\nA Christmas Carol- We
 lls Theatre\nDethlok- The Norva\nKevin Downey Jr.- Virginia Beach Funn
 y Bone\n \nCLICK HERE FOR HAPPY HOUR DEALS FEATURING SEVERAL LOCAL RE
 STAURANTS DAILY SPECIALS\n \nCLICK HERE REACH OUR VENUE'S PAGE TO FI
 ND ADDRESSES AND PHONE NUMBERS OF PLACES LISTED\n \nCLICK HERE FOR OU
 R BAND/DJ PAGE TO FIND DESCRIPTION OF THE BANDS AND LINKS TO THEIR WE
 B PAGES\n\nFor more information visit https://vbnightlife.com/events/c
 lick-here-for-wednesday12-12-12-virginia-beach-entertainment-lis
DTSTART:20121212T050000Z
DTEND:20121213T045900Z
CATEGORIES:"virginia beach", "virginia beach nightlife", "virginia bea
 ch bands"
LOCATION:Virginia Beach, VA
WEBSITE:
URL:
CONTACT:
ORGANIZER;CN="VBnightlife.com":https://vbnightlife.com/profile/admin
ATTACH;FMTTYPE="image/jpeg":http://storage.ning.com/topology/rest/1.0/
 file/get/1664183302?profile=original
ATTENDEE;ROLE=REQ-PARTICIPANT;PARTSTAT=ACCEPTED;RSVP=TRUE;CN="VBnightl
 ife.com":https://vbnightlife.com/profile/admin
END:VEVENT
END:VCALENDAR
