BEGIN:VCALENDAR
PRODID:NingEventWidget-v1
VERSION:2.0
METHOD:PUBLISH
BEGIN:VEVENT
UID:2508951:Event:166878
DTSTAMP:20260423T193230Z
SUMMARY:Click here for WEDNESDAY'S VIRGINIA BEACH ENTERTAINMENT LISTIN
 G
DESCRIPTION:\nENTERTAINMENT:31st St. Stage - BUTTER  6-10PMH2O - *LIV
 E ENTERTAINMENT*  9PMHot Tuna – SNACKBAR JONESIl Giardino – BILLY
  BATTE 7PMJewish Mother Hilltop - BUCKETHEAD + LYNX  8PM  ($20/23)So
 uth Beach Grill – HOTCAKES   9PMWing King - *OPEN MIC* w/ SUZY TAY
 LOR  10PM THEATRE/FUNDRAISERS/CONCERTS/SPORTS:15th St. Raw Bar - COR
 NHOLE TOURNAMENT  7PMTiki Island - COMEDY FACTORY 8:30PMDJ’S/KARAOK
 E/DANCES:Abbey Road – *BEATLES KARAOKE* w/ TIM BEASLEY as JOHN LENNO
 N 8:30PMBoneshakers - *KARAOKE*Brass Bell - *KARAOKE* 9PMChicho’s 29
 th - *KARAOKE*The Edge – DJ RAW BASEFat Tuesday’s - *KARAOKE*Funny
  Bone Comedy Club - DJDOYOTHANGHarry O’s – HARRY-OKE 9PM (Ages 25+
 )Max & Erma’s - *KARAOKE*Parlays - *KARAOKE*Poppa’s Pub - *KARAOKE
 * 9:30PMReef Lounge - *KARAOKE*  9PMRetro Cafe - DEEJAY B EZZY  10PM
   *BEER PONG WET BALLS WEDNESDAYS*Scandals - *KARAOKE*  8PMScooter
 s - *KARAOKE*Seaboard Sports Bar - *KARAOKE*Smackwater Jack’s - *KA
 RAOKE*Upper Deck – MIX N MINGLE *SHAG DANCE* 6-7:30PMFAMILY FUN/SPEC
 IAL EVENTS:Barnes & Noble Lynnhaven - STORYTIME & CRAFTS  10:30-11:30
 AMVirginia Aquarium - “DISCOVER THE WOODS” WILDLIFE SEARCH  10AM-
 4PM  (WEATHER PERMITTING)\n \nBookings can change at the last minute
 , so we recommend checking with the venue before heading out!CLICK HER
 E REACH OUR VENUE'S PAGE TO FIND ADDRESSES AND PHONE NUMBERS OF PLACES
  LISTEDCLICK HERE FOR OUR BAND/DJ PAGE TO FIND DESCRIPTION OF THE BAND
 S AND LINKS TO THEIR WEB PAGES\n\n\nFor more information visit https:/
 /vbnightlife.com/events/click-here-for-wednesday-s-virginia-beach-ente
 rtainment-listing
DTSTART:20110907T040000Z
DTEND:20110908T035900Z
CATEGORIES:"virginia beach events", "virginia beach entertainment", "v
 irginia beach bands", "virginia beach djs", "virginia beach family fun
 ", "virginia beach fundraisers"
LOCATION:Virginia Beach
WEBSITE:
URL:
CONTACT:
ORGANIZER:VBnightlife.com / VBdaylife.com
ATTACH;FMTTYPE="image/jpeg":http://storage.ning.com/topology/rest/1.0/
 file/get/1664150708?profile=original
ATTENDEE;ROLE=REQ-PARTICIPANT;PARTSTAT=ACCEPTED;RSVP=TRUE;CN="VBnightl
 ife.com":https://vbnightlife.com/profile/admin
END:VEVENT
END:VCALENDAR
