BEGIN:VCALENDAR
PRODID:NingEventWidget-v1
VERSION:2.0
METHOD:PUBLISH
BEGIN:VEVENT
UID:2508951:Event:313870
DTSTAMP:20260422T123100Z
SUMMARY:Click here for WEDNESDAY 9/9/15 VIRGINIA BEACH EVENTS & ENTERT
 AINMENT LISTINGS
DESCRIPTION:Download the new FREE mobile app for Virginia Beach.  Sea
 rch VBnightlife in the app stores!\nSpecial Events\nAssociation for R
 esearch and Enlightenment (A.R.E.) Oceanfront Click for events calenda
 r\nColonial Shooting Academy: VBnightlife Night with $29 Learn to Sho
 ot class. Details: http://vbnightlife.com/events/learn-to-shoot-at-vb
 nightlife-night-at-colonial-shooting-academy\nMuseum of Contemporary A
 rt (MOCA) Now on Exhibit\nAdventure Park at the Virginia Aquarium $5 
 Off General Admission With Promo Code VBLIFE here: http://bit.ly/1FhD
 qIF\nCharlie's American Cafe - Norfolk - Free Wine Tasting & Jazz with
  The Blue Mile 6 to 9pm. Details: http://vbnightlife.com/events/vbnig
 htlife-night-free-wine-food-and-jazz-wednesday-at-charlie-s\n\nLive En
 tertainment\nBoneshakers - Karaoke w/ DJ EZ Ed 7p\nCalypso Bar & Gril
 l -Atlantic Ave- Jesse Chong 6p\nChicho's - 29th Street - Steve Forss 
 7p\nChops - Oceanfront - The Reef 6p\nEagles Nest - Hampton Roads Coun
 try Live Filming 8p\nFroggies - Shore Drive - Mike Proffitt & Dana Sil
 vercloud 8p\nHot Tuna -Shore Drive- RnR 9:30p\nJerry's Chesapeake - 7p
 m Ladies Night with TNT Karaoke\nKeagans Irish Pub- Town Center- Brand
 on Bower Band 10p*\nLongshots Billiards & Darts- Chesapeake- Free Texa
 s Holdem Poker at 7 & 9; Free to Play\nMurphy's Irish Pub - Strange Ro
 otz 8p\nRY Lounge - Oceanfront - DJ & Dancing 10p\nSouth Beach Grill 
 - Snackbar Jones 9p\nTapped Gastropub - Hilltop - Dustin Furlow 9p\n
 Wing King - Rosemont- Open Mic w/Dana & Sergio 8:30p  COUPON\nWing 
 King - Kempsville- Trivia 7pm + Kaboombox 9:30p  COUPON\nWoody McG
 ees -Holland Rd- John Baldwin 9p\n\n\nFor more information visit htt
 ps://vbnightlife.com/events/click-here-for-wednesday-9-9-15-virginia-b
 each-events-entertainme
DTSTART:20150909T040000Z
DTEND:20150910T035900Z
CATEGORIES:"virginia beach events", "virginia beach nightlife", "event
 s in virginia beach", "\"happy", hour, in, virginia, "beach'"
LOCATION:Virginia Beach, VA
WEBSITE:
URL:
CONTACT:
ORGANIZER;CN="VBnightlife.com":https://vbnightlife.com/profile/admin
ATTACH;FMTTYPE="image/jpeg":http://storage.ning.com/topology/rest/1.0/
 file/get/1664284374?profile=original
ATTENDEE;ROLE=REQ-PARTICIPANT;PARTSTAT=ACCEPTED;RSVP=TRUE;CN="VBnightl
 ife.com":https://vbnightlife.com/profile/admin
END:VEVENT
END:VCALENDAR
