BEGIN:VCALENDAR
PRODID:NingEventWidget-v1
VERSION:2.0
METHOD:PUBLISH
BEGIN:VEVENT
UID:2508951:Event:313866
DTSTAMP:20260422T123012Z
SUMMARY:Click here for WEDNESDAY 9/2/15 VIRGINIA BEACH EVENTS & ENTERT
 AINMENT LISTINGS
DESCRIPTION:Download the new FREE mobile app for Virginia Beach.  Sea
 rch VBnightlife in the app stores!\nSpecial Events\nJazz Jam + Free W
 ine Tasting + Free Pizza at Charlie's American Cafe in Norfolk\nAssoc
 iation for Research and Enlightenment (A.R.E.) Oceanfront Click for ev
 ents calendar\nColonial Shooting Academy: Concealed Carry Night Ever
 y Wednesday from 5PM-8PM bring your concealment permit and receive 25%
  off a full priced lane rental\nMuseum of Contemporary Art (MOCA) Now 
 on Exhibit\nAdventure Park at the Virginia Aquarium $5 Off General Ad
 mission With Promo Code VBLIFE here: http://bit.ly/1FhDqIF\nSandler C
 enter Outdoor Plaza - Free Summer Concert Series (weather permitting)-
  Y Not Wednesday  5 to 9p\nFireworks - Virginia Beach Oceanfront - W
 eather permitting 10p\n\nLive Entertainment\n7th Stage - DEJA 6p\n31s
 t Stage - Carbon Leaf 6p\n34th Stage - Borderline Crazy Trio 6p\nBon
 eshakers - Karaoke w/ DJ EZ Ed 7p\nCalypso Bar & Grill -Atlantic Ave-
  Jesse Chong 6p\nChops - Oceanfront - Live Music 6p\nEagles Nest - Ham
 pton Roads Country Live Filming 8p\nFroggies -Shore Dr- Trivia Night e
 very Wednesdays Prizes with Smartmouth 7PM\nHot Tuna -Shore Drive- Liv
 e Music or DJ 9:30p\nJerry's Chesapeake - 7pm Ladies Night with TNT Ka
 raoke\nKeagans Irish Pub- Town Center- Diego & Friends 10p\nLongshots 
 Billiards & Darts- Chesapeake- Free Texas Holdem Poker at 7 & 9; Free 
 to Play\nMurphy's Irish Pub - Strange Rootz 8p\nRY Lounge - Oceanfron
 t - DJ & Dancing 10p\nSouth Beach Grill - Hotcakes 9p\nWing King - Ro
 semont- Open Mic w/Dana & Sergio 8:30p  COUPON\nWing King - Kempsvi
 lle- Trivia 7pm + Kaboombox 9:30p  COUPON\nWoody McGees -Holland R
 d- Dave Johnson 9p\n\n\nFor more information visit https://vbnightli
 fe.com/events/click-here-for-wednesday-9-2-15-virginia-beach-events-en
 tertainme
DTSTART:20150902T040000Z
DTEND:20150903T035900Z
CATEGORIES:"virginia beach events", "virginia beach nightlife", "event
 s in virginia beach", "\"happy", hour, in, virginia, "beach'"
LOCATION:Virginia Beach, VA
WEBSITE:
URL:
CONTACT:
ORGANIZER:VBnightlife.com / vbdaylife
ATTACH;FMTTYPE="image/jpeg":http://storage.ning.com/topology/rest/1.0/
 file/get/1664284241?profile=original
ATTENDEE;ROLE=REQ-PARTICIPANT;PARTSTAT=ACCEPTED;RSVP=TRUE;CN="VBnightl
 ife.com":https://vbnightlife.com/profile/admin
END:VEVENT
END:VCALENDAR
