BEGIN:VCALENDAR
PRODID:NingEventWidget-v1
VERSION:2.0
METHOD:PUBLISH
BEGIN:VEVENT
UID:2508951:Event:202283
DTSTAMP:20260422T122942Z
SUMMARY:Click here for WEDNESDAY 9/12/12 VIRGINIA BEACH ENTERTAINMENT 
 LISTINGS
DESCRIPTION:LIVE ENTERTAINMENT\nAbbey Road- Open Stage\nBoneshakers- e
 , 2-6PM, Natures Child, 8PM-12AM (Every Wednesday)\nBayside Bar & Gril
 l- College/Ladies Night w Z104 (Every Wednesday)\nCalypso- Jesse Chong
  (on the patio), 7-11PM\nElement Lounge- Wine Down Wednesdays w/DJ Pro
 blem & DJ Havoc\nFinn McCools- The Trongone Band\nHot Tuna- Snackbar J
 ones\nH20- Lewis McGehee\nHavanah Nights- Cocktail Piano (Wed.-Sat.) w
 /Justin Kauflin,5-7PM, Woody Beckner Duo, Â 8-11PM\nJewish Mother- Gut
 termouth, 8:30PM\nKeagans- Brandon Bower, 10PM\nSide Street Cantina- L
 ive Wednesdays w/ The Office,9PM-1:30AM\nSeaside Raw Bar - Eazy D (Eve
 ry Wednesday)\nSouth Beach Grill- Vinyl Headlights\nTayst- Sushi Night
  (Every Wednesday)\nWoody McGees- Nitro Fish, 9:30PM-12:30AM\nWing Kin
 g- Open Mic w/ Dana & Sergio\nÂ \nFAMILY FUN/SPECIAL EVENTS:\nÂ \nDJâ€
 ™S/KARAOKE/DANCES:\nAJ Gators- Karaoke w/ Scotty, 9PM\nRetro Cafe- Kar
 aoke\nCabo- DJ Bryan One & Tias\nPoppaâ€™s Pub - *KARAOKE* 9:30PM\nSam
 my's- Karaoke & Live DJ\nStarz- Karaoke\nSecrets- Karaoke w/ El Mike, 
 9PM-1AM\nWoodys- Beer Pong Tournament ($150 Cash Prize), 10PM\nWannaBs
 - Karaoke, 7PM-2AM (Monday-Saturday, 21+)\nWing King- Open Mic w/ Dahn
 a & Sergio, 10PM\nCLICK HERE FOR HAPPY HOUR DEALS\nCLICK HERE REACH OU
 R VENUE'S PAGE\nCLICK HERE FOR OUR BAND/DJ PAGE\n\nFor more informatio
 n visit https://vbnightlife.com/events/click-here-for-wednesday-9-12-1
 2-virginia-beach-entertainment-lis
DTSTART:20120912T040000Z
DTEND:20120913T035900Z
CATEGORIES:"virginia beach entertainment", "virginia beach nightlife",
  "virginia beach bands"
LOCATION:Virginia Beach
WEBSITE:
URL:
CONTACT:
ORGANIZER:VBnightlife.com (Dionna Campanella)
ATTACH;FMTTYPE="image/jpeg":http://storage.ning.com/topology/rest/1.0/
 file/get/1664180125?profile=original
ATTENDEE;ROLE=REQ-PARTICIPANT;PARTSTAT=ACCEPTED;RSVP=TRUE;CN="VBnightl
 ife.com":https://vbnightlife.com/profile/admin
END:VEVENT
END:VCALENDAR
