BEGIN:VCALENDAR
PRODID:NingEventWidget-v1
VERSION:2.0
METHOD:PUBLISH
BEGIN:VEVENT
UID:2508951:Event:227974
DTSTAMP:20260421T225158Z
SUMMARY:Click here for WEDNESDAY 8/21/13 VIRGINIA BEACH ENTERTAINMENT 
 LISTINGS
DESCRIPTION:LIVE ENTERTAINMENT/ DJ’S/ KARAOKE:\n7th Street Stage- Ti
 dewater Drive Band 6pm-10pm\n24th Street Stage- Broadway In The Park 7
 :30pm-10pm\n31st Street Stage- Savannah 6pm-10pm\nAbbey Rd.- Louis Smi
 th\nBahama Breeze- John Baldwin 5pm-11pm, Smoove Steel 8pm-11pm\nBaja 
 Sandbridge- 8pm-12am\nBayside Bar- Natures Child\nBoneshakers Sports B
 ar and Grill – Heather Griffith Duo 6pm-10pm\nCactus Jacks – Mia
 mi Latin Nights ft. DJ Atrevete 9:30pm\nFinn McCools- Karaoke 9pm\nGru
 mpys—Karaoke 7:30pm\nHarry O’s- DJ 9pm\nHot Tuna- Snackbar Jones 1
 0pm\nIl Giardino's- Billy Batte 7pm\nKeagans Town Center- Brandon Bowe
 r 10pm\nRock Fish -Tiki Bar Band 7pm\nSandbridge Island Restaurant- M
 ike De Moss 9pm\nSmoked Out- Open Mic\nSouth Beach Grill- Vinyl Headli
 ghts\nSurf Club Ocean Grill- Brent Shepard\nTapped Gastropub- Bryann D
 unn 7:45pm\nTown Center- YNot Wednesday ft. Rich Whiskey 5pm-9pm\nTrad
 ewinds- Lewis McGehee 7pm-10pm\nWing King Rosemont Rd-Open Mic 9pm\nWo
 ody McGees Barstro – John Baldwin 9:30pm\n \nSPECIAL EVENTS/CONCER
 TS/ FESTIVALS:\n Fireworks – 20th Street Oceanfront 10pm\nCoastal E
 dge Surfing Championship - Professional and Amateur Surfing begins at
  7am at 2nd street-  Oceanfront \nCircus in the Park- 17th Street Pa
 rk 7:30pm-10pm\nThe Wreck of the Dictator- 25th Street Park 8:30pm-10:
 30pm\nThe Witch of Pungo- 27th Street Park 8:30pm-10:30pm\nCirquesa Dr
 eamquest- Rudee Inlet Loop 7:30pm\n \nCLICK HERE FOR THE BEST DEALS &
  COUPONS IN VIRGINIA BEACH FEATURING EXCLUSIVE BARGAINS\n \nCLICK HE
 RE FOR HAPPY HOUR DEALS FEATURING SEVERAL LOCAL RESTAURANTS DAILY SPEC
 IALS\n \nCLICK HERE REACH OUR VENUE'S PAGE TO FIND ADDRESSES AND PHO
 NE NUMBERS OF PLACES LISTED\n \nCLICK HERE FOR OUR BAND/DJ PAGE TO F
 IND DESCRIPTION OF THE BANDS AND LINKS TO THEIR WEB PAGES\n\nFor more 
 information visit https://vbnightlife.com/events/click-here-for-wednes
 day-8-21-13-virginia-beach-entertainment-lis
DTSTART:20130821T040000Z
DTEND:20130822T035900Z
CATEGORIES:"virginia beach", "virginia beach nightlife", "virginia bea
 ch bands", "virginia beach entertainment"
LOCATION:Virginia Beach, VA
WEBSITE:
URL:
CONTACT:
ORGANIZER;CN="VBnightlife.com":https://vbnightlife.com/profile/admin
ATTACH;FMTTYPE="image/jpeg":http://storage.ning.com/topology/rest/1.0/
 file/get/1664195613?profile=original
ATTENDEE;ROLE=REQ-PARTICIPANT;PARTSTAT=ACCEPTED;RSVP=TRUE;CN="VBnightl
 ife.com":https://vbnightlife.com/profile/admin
END:VEVENT
END:VCALENDAR
