BEGIN:VCALENDAR
PRODID:NingEventWidget-v1
VERSION:2.0
METHOD:PUBLISH
BEGIN:VEVENT
UID:2508951:Event:199483
DTSTAMP:20260422T224613Z
SUMMARY:Click here for WEDNESDAY 7/4/12 INDEPENDENCE DAY ENTERTAINMENT
DESCRIPTION:LIVE ENTERTAINMENT\n7th Street Stage- Snackbar Jones 6-10P
 M\n17th Street Park- Local 34, 7:30-10:45PM\n20th Street- Independence
  Day Fireworks, 9:30-9:40PM\n24th Street Park- Chester B's Motown Trib
 ute Show, 8-10:30PM\n25th Street- Naval Airpower Legacy, 8:45, 9:30PM\
 n31st St. Park Who's Bad \"Michael Jackson Tribute\" (8pm-9:30pm)\nAbb
 ey Road- Tim Beasley\nBoneshakers- Live Entertainment, 2-6PM, Natures 
 Child, 8PM-12AM (Every Wednesday)\nBayside Bar & Grill- College/Ladies
  Night w Z104 (Every Wednesday)\nCalypso- Fire Fly Vodka Party, Jesse 
 Chong, 7-11PM\nChix- Snackbar Jones\nCypress Point- SPR Band\nDeja Blu
 - Red Stapler\nElement Lounge- Wine Down Wednesdays w/DJ Problem & DJ 
 Havoc\nFinn McCools- Live Entertainment\nHot Tuna- DJ No Request\nH20-
  Karl Werne & Friends\nHavanah Nights- Cocktail Piano (Wed.-Sat.) w/Ju
 stin Kauflin,5-7PM, Woody Beckner Duo,  8-11PM\nKnuckleheads- Live En
 tertainment\nKeagans- Steve Forss, 8PM\nLighthouse- Ed Kelleher, 8-11P
 M\nRed Star Tavern- Steve Forss & Robert Coates, 9PM\nSide Street Cant
 ina- Live Wednesdays w/ The Office,9PM-1:30AM\nSeaside Raw Bar - Eazy 
 D (Every Wednesday)\nSouth Beach Grill- Hotcakes\nSurf Club Ocean Gril
 l- Mike Proffitt\nTayst- Sushi Night (Every Wednesday)\nWoody McGees- 
 Live Entertainment, 9:30PM-12:30AM\nWing King- Open Mic w/ Dana & Serg
 io\nY Not Wednesdays (Sandler Center Plaza)- The Deloreans (Every Wedn
 esday)\n \nFAMILY FUN/SPECIAL EVENTS:\nVirginia MOCA- Andy Warhol\nSt
 ars and Stripes Explosion\nSouth Hampton Roads 4th of July Celebration
 s\n \nDJ’S/KARAOKE/DANCES:\nAJ Gators- Karaoke w/ Scotty, 9PM\nRetr
 o Cafe- Karaoke\nCabo- DJ Bryan One & Tias\nSecrets- Karaoke w/ El Mik
 e, 9PM-1AM\nWoodys- Beer Pong Tournament ($150 Cash Prize), 10PM\nWann
 aBs- Karaoke, 7PM-2AM (Monday-Saturday, 21+)\nWing King- Open Mic w/ D
 ahna & Sergio, 10PM\nCLICK HERE REACH OUR VENUE'S PAGE\nCLICK HERE FOR
  OUR BAND/DJ PAGE\n\nFor more information visit https://vbnightlife.co
 m/events/click-here-for-wednesday-7-4-12-independence-day-entertainmen
 t
DTSTART:20120704T040000Z
DTEND:20120705T035900Z
CATEGORIES:"virginia beach entertainment", "virginia beach bands", "vi
 rginia beach nightlife"
LOCATION:Virginia Beach
WEBSITE:
URL:
CONTACT:
ORGANIZER:VBnightlife.com (Dionna Campanella)
ATTACH;FMTTYPE="image/jpeg":http://storage.ning.com/topology/rest/1.0/
 file/get/1664172388?profile=original
ATTENDEE;ROLE=REQ-PARTICIPANT;PARTSTAT=ACCEPTED;RSVP=TRUE;CN="VBnightl
 ife.com":https://vbnightlife.com/profile/admin
END:VEVENT
END:VCALENDAR
