BEGIN:VCALENDAR
PRODID:NingEventWidget-v1
VERSION:2.0
METHOD:PUBLISH
BEGIN:VEVENT
UID:2508951:Event:199681
DTSTAMP:20260419T220335Z
SUMMARY:Click here for WEDNESDAY 7/18/12 VIRGINIA BEACH ENTERTAINMENT 
 LISTINGS
DESCRIPTION:LIVE ENTERTAINMENT\n7th Street Stage- Tidewater Drive, 6-1
 0PM\n13th Street- The Life and Music of Ella Fitzgerald, 7PM, 8PM, 9PM
 \n17th Street Park- Circus in the Park, 7:30, 8:30PM, 9:30PM\n20th Str
 eet- Weekly Displays, 10PM\n24th Street Park- Tidewater Winds, 7:30-10
 PM\n25th Street- Wreck of the Dictator, 8:30PM, 9:15PM, 10PM\n27th Str
 eet Park- The Witch of Pungo, 8:30PM,9:15PM,10PM\n31st Street Park- Ve
 rtical Horizons, 8-10PM\nAbbey Road- Time Beasley as John Lennon\nBone
 shakers- Live Entertainment, 2-6PM, Natures Child, 8PM-12AM (Every Wed
 nesday)\nBayside Bar & Grill- College/Ladies Night w Z104 (Every Wedne
 sday)\nBaja- Hotcakes\nCalypso- Jesse Chong, 7-11PM\nElement Lounge- W
 ine Down Wednesdays w/DJ Problem & DJ Havoc\nFinn McCools- Live Entert
 ainment\nHot Tuna- Snackbar Jones\nH20- Lewis McGehee\nHavanah Nights-
  Cocktail Piano (Wed.-Sat.) w/Justin Kauflin,5-7PM, Woody Beckner Duo,
  Â 8-11PM\nJewish Mother- Mike Doughty\nKnuckleheads- Live Entertainme
 nt\nKeagans- Live Entertainment, 10PM\nLighthouse- Ed Kelleher, 8-11PM
 \nLunasea- Live Entertainment\nRed Star Tavern- Steve Forss and Robert
  Coates, 9PM\nSide Street Cantina- Live Wednesdays w/ The Office,9PM-1
 :30AM\nSeaside Raw Bar - Eazy D (Every Wednesday)\nSouth Beach Grill-Â
  Vinyl Headlights\nTayst- Sushi Night (Every Wednesday)\nWoody McGees-
  Live Entertainment, 9:30PM-12:30AM\nWing King- Open Mic w/ Dana & Ser
 gio\nY Not Wednesdays (Sandler Center Plaza)- The Office (Every Wednes
 day)\nÂ \nFAMILY FUN/SPECIAL EVENTS:\nNorth End Wine Tasting featuring
  live music with Brent Shepard\nVirginia MOCA- Andy Warhol\nÂ \nDJâ€™S
 /KARAOKE/DANCES:\nAJ Gators- Karaoke w/ Scotty, 9PM\nRetro Cafe- Karao
 ke\nCabo- DJ Bryan One & Tias\nPoppaâ€™s Pub - *KARAOKE* 9:30PM\nSecre
 ts- Karaoke w/ El Mike, 9PM-1AM\nWoodys- Beer Pong Tournament ($150 Ca
 sh Prize), 10PM\nWannaBs- Karaoke, 7PM-2AM (Monday-Saturday, 21+)\nWin
 g King- Open Mic w/ Dahna & Sergio, 10PM\nCLICK HERE FOR HAPPY HOUR DE
 ALS\nCLICK HERE REACH OUR VENUE'S PAGE\nCLICK HERE FOR OUR BAND/DJ PAG
 E\n\nFor more information visit https://vbnightlife.com/events/click-h
 ere-for-wednesday-7-18-12-virginia-beach-entertainment-lis
DTSTART:20120718T040000Z
DTEND:20120719T035900Z
CATEGORIES:"virginia beach entertainment", "virginia beach nightlife",
  "virginia beach bands"
LOCATION:Virginia Beach
WEBSITE:
URL:
CONTACT:
ORGANIZER:VBnightlife.com (Dionna Campanella)
ATTACH;FMTTYPE="image/jpeg":http://storage.ning.com/topology/rest/1.0/
 file/get/1664173437?profile=original
ATTENDEE;ROLE=REQ-PARTICIPANT;PARTSTAT=ACCEPTED;RSVP=TRUE;CN="VBnightl
 ife.com":https://vbnightlife.com/profile/admin
END:VEVENT
END:VCALENDAR
