BEGIN:VCALENDAR
PRODID:NingEventWidget-v1
VERSION:2.0
METHOD:PUBLISH
BEGIN:VEVENT
UID:2508951:Event:311923
DTSTAMP:20260424T121047Z
SUMMARY:Click here for WEDNESDAY 7/15/15 VIRGINIA BEACH EVENTS & ENTER
 TAINMENT LISTINGS
DESCRIPTION:Download the new FREE mobile app for Virginia Beach.  Sea
 rch VBnightlife in the app stores!\nSpecial Events\nAssociation for R
 esearch and Enlightenment (A.R.E.) Oceanfront Click for events calenda
 r\nColonial Shooting Academy: Concealed Carry Night Every Wednesday 
 from 5PM-8PM bring your concealment permit and receive 25% off a full 
 priced lane rental\nMuseum of Contemporary Art (MOCA) Now on Exhibit\n
 Adventure Park at the Virginia Aquarium $5 Off General Admission With
  Promo Code VBLIFE here: http://bit.ly/1FhDqIF\nSandler Center Outdoo
 r Plaza - Free Summer Concert Series (weather permitting)- Y Not Wedn
 esday with Jack Ass*Flats 5p\nFireworks - Virginia Beach Oceanfront -
  Weather permitting 10p\n\nLive Entertainment\n501 City Grill - Birdn
 eck Rd- Happy Hour 4 to 6:30p Pizza Night: All Pizzas $7.99 All Night 
 Long! Nature's Child 8:30p\n7th Stage- Hot Cakes 6p\n17th Stage- Cir
 cus in the Park 7:30p\n24th St Park- Tidewater Winds 7:30p\n25th St Pa
 rk- Aviators & Afterburners:A Naval Airpower Legacy 8:45p\n27th Stage-
  The Witch of Pungo 8:30p\n31st Stage- The Hark 6p\n34th Stage- Jac
 k Becker 6p\nBahama Breeze Island Grille - Smoove Steel 4p\nBoneshake
 rs - 7p\nCalypso Bar & Grill -Atlantic Ave- Jesse Chong 9p\nChicho's 
 - 29th - Steven Vang 7p\nChops - Oceanfront - The Reef 6p\nEagles Nes
 t - Hampton Roads Country Live Filming 8p, Free Line Dancing Lessons 
 and DJ ToeKnee 7p\nFroggies -Shore Dr- Trivia Night every Wednesdays 
 Prizes with Smartmouth 7PM\nJerry's Chesapeake - 7pm Ladies Night with
  TNT Karaoke Get your 1/2 Price Voucher for food and drink here\nKeag
 ans Irish Pub- Town Center- Brandon Bower Band 10p\nLongshots Billiard
 s & Darts- Chesapeake- Free Texas Holdem Poker at 7 & 9; Free to Play\
 nMurphy's Irish Pub - Strange Rootz 8p\nRY Lounge - Oceanfront - DJ &
  Dancing 10p\nSouth Beach Grill - Childz Play 9p\nTapped Gastropub -
  Hilltop - Dem Tunz Trio 9p\nWing King - Rosemont- Open Mic w/Dana
  & Sergio 8:30p  COUPON\nWing King - Kempsville- Trivia 7pm + Kabo
 ombox 9:30p  COUPON\nWoody McGees -Holland Rd- Blood For Guns 9p\n
 \n\nFor more information visit https://vbnightlife.com/events/click-he
 re-for-wednesday-7-15-15-virginia-beach-events-entertainm
DTSTART:20150715T040000Z
DTEND:20150716T035900Z
CATEGORIES:"virginia beach events", "virginia beach nightlife", "event
 s in virginia beach", "\"happy", hour, in, virginia, "beach'"
LOCATION:Virginia Beach, VA
WEBSITE:
URL:
CONTACT:
ORGANIZER;CN="VBnightlife.com":https://vbnightlife.com/profile/admin
ATTACH;FMTTYPE="image/jpeg":http://storage.ning.com/topology/rest/1.0/
 file/get/1664281545?profile=original
ATTENDEE;ROLE=REQ-PARTICIPANT;PARTSTAT=ACCEPTED;RSVP=TRUE;CN="VBnightl
 ife.com":https://vbnightlife.com/profile/admin
END:VEVENT
END:VCALENDAR
