BEGIN:VCALENDAR
PRODID:NingEventWidget-v1
VERSION:2.0
METHOD:PUBLISH
BEGIN:VEVENT
UID:2508951:Event:199511
DTSTAMP:20260422T224659Z
SUMMARY:Click here for WEDNESDAY 7/11/12 VIRGINIA BEACH ENTERTAINMENT 
 LISTING
DESCRIPTION:LIVE ENTERTAINMENT\n7th Street Stage- Vinyl Headlights, 6-
 10PM\n13th Street- The Life and Music of Ella Fitzgerald, 7PM, 8PM, 9P
 M\n17th Street Park- Special Trapeze Circus, 7:30, 8:30PM, 9:30PM\n20t
 h Street- Weekly Displays, 10PM\n24th Street Park- DEJA, 8-10:45PM\n25
 th Street- Wreck of the Dictator, 8:30PM, 9:15PM, 10PM\n27th Street Pa
 rk- The Witch of Pungo, 8:30PM,9:15PM,10PM\n31st Street Park- Tidewate
 r Winds, 7:30-9PM\nAbbey Road- Tim Beasley as John Lennon\nBoneshakers
 - Live Entertainment, 2-6PM, Natures Child, 8PM-12AM (Every Wednesday)
 \nBayside Bar & Grill- College/Ladies Night w Z104 (Every Wednesday)\n
 Calypso- Jesse Chong, 7-11PM\nElement Lounge- Wine Down Wednesdays w/D
 J Problem & DJ Havoc\nFinn McCools- Live Entertainment\nHot Tuna- Snac
 kbar Jones\nHavanah Nights- Cocktail Piano (Wed.-Sat.) w/Justin Kaufli
 n,5-7PM, Woody Beckner Duo,  8-11PM\nKeagans- Live Entertainment, 10P
 M\nLighthouse- Ed Kelleher, 8-11PM\nLunasea- Live Entertainment\nSide 
 Street Cantina- Live Wednesdays w/ The Office,9PM-1:30AM\nSeaside Raw 
 Bar - Eazy D (Every Wednesday) \nSouth Beach Grill- The Janitors\nTa
 yst- Sushi Night (Every Wednesday)\nWoody McGees- Live Entertainment,
  9:30PM-12:30AM\nWing King- Open Mic w/ Dana & Sergio\nY Not Wednesday
 s (Sandler Center Plaza)- Borderline Crazy (Every Wednesday)\n \nFAMI
 LY FUN/SPECIAL EVENTS:\nVirginia MOCA- Andy Warhol\n \nDJ’S/KARAOKE
 /DANCES:\nAJ Gators- Karaoke w/ Scotty, 9PM\nRetro Cafe- Karaoke\nCabo
 - DJ Bryan One & Tias\nPoppa’s Pub - *KARAOKE* 9:30PM\nSammy's- Kara
 oke & Live DJ\nStarz- Karaoke\nSecrets- Karaoke w/ El Mike, 9PM-1AM\nW
 oodys- Beer Pong Tournament ($150 Cash Prize), 10PM\nWannaBs- Karaoke,
  7PM-2AM (Monday-Saturday, 21+)\nWing King- Open Mic w/ Dahna & Sergio
 , 10PM\nCLICK HERE FOR HAPPY HOUR DEALS\nCLICK HERE REACH OUR VENUE'S 
 PAGE\nCLICK HERE FOR OUR BAND/DJ PAGE\n\nFor more information visit ht
 tps://vbnightlife.com/events/click-here-for-wednesday-7-11-12-virginia
 -beach-entertainment-lis
DTSTART:20120711T040000Z
DTEND:20120712T035900Z
CATEGORIES:"virginia beach entertainment", "virginia beach nightlife"
LOCATION:Virginia Beach
WEBSITE:
URL:
CONTACT:
ORGANIZER:VBnightlife.com (Dionna Campanella)
ATTACH;FMTTYPE="image/jpeg":http://storage.ning.com/topology/rest/1.0/
 file/get/1664173172?profile=original
ATTENDEE;ROLE=REQ-PARTICIPANT;PARTSTAT=ACCEPTED;RSVP=TRUE;CN="VBnightl
 ife.com":https://vbnightlife.com/profile/admin
END:VEVENT
END:VCALENDAR
