BEGIN:VCALENDAR
PRODID:NingEventWidget-v1
VERSION:2.0
METHOD:PUBLISH
BEGIN:VEVENT
UID:2508951:Event:284961
DTSTAMP:20260422T121239Z
SUMMARY:Click here for WEDNESDAY 5/14/14 VIRGINIA BEACH ENTERTAINMENT 
 LISTINGS
DESCRIPTION:LIVE ENTERTAINMENT/ DJ’S/ KARAOKE:\nFEATURED EVENT:\nVBN
 IGHTLIFE PARTY WITH FREE DRINKS SPONSORED BY SVEDKA 6 TO 9PM AT FUSIO
 N RESTAURANT AND LOUNGE INSIDE THE SHERATON ON 35TH STREET - live musi
 c with John Smallwood, 25% off food and drink and more!\nBoneshakers -
  DAVE JOHNSON! Patio, 7-11:00pm\nHot Tuna - VB \"CHEAP THRILLS\"\nKea
 gans - Town Center - VB \"BRANDON BOWER BAND\" 10pm\nSouth Beach Grill
  - VB \"JANITORS\"\n\nSPECIAL EVENTS/CONCERTS/ FESTIVALS: \n\nCLICK H
 ERE FOR HAPPY HOUR DEALS FEATURING SEVERAL LOCAL RESTAURANTS DAILY SPE
 CIALS\n \nCLICK HERE REACH OUR VENUE'S PAGE TO FIND ADDRESSES AND PH
 ONE NUMBERS OF PLACES LISTED\n \nCLICK HERE FOR OUR BAND/DJ PAGE TO 
 FIND DESCRIPTION OF THE BANDS AND LINKS TO THEIR WEB PAGES\n\nFor more
  information visit https://vbnightlife.com/events/click-here-for-wedne
 sday-5-14-14-virginia-beach-entertainment-lis
DTSTART:20140514T040000Z
DTEND:20140515T035900Z
CATEGORIES:"virginia beach", "virginia beach nightlife", "virginia bea
 ch bands"
LOCATION:Virginia Beach, VA
WEBSITE:
URL:
CONTACT:
ORGANIZER;CN="VBnightlife.com":https://vbnightlife.com/profile/admin
ATTACH;FMTTYPE="image/jpeg":http://storage.ning.com/topology/rest/1.0/
 file/get/1664193757?profile=original
ATTENDEE;ROLE=REQ-PARTICIPANT;PARTSTAT=ACCEPTED;RSVP=TRUE;CN="VBnightl
 ife.com":https://vbnightlife.com/profile/admin
END:VEVENT
END:VCALENDAR
