BEGIN:VCALENDAR
PRODID:NingEventWidget-v1
VERSION:2.0
METHOD:PUBLISH
BEGIN:VEVENT
UID:2508951:Event:336186
DTSTAMP:20260419T120739Z
SUMMARY:Click here for WEDNESDAY 4/27/16 VIRGINIA BEACH EVENTS & ENTER
 TAINMENT LISTINGS
DESCRIPTION:Download the new FREE mobile app for Virginia Beach. Â Sea
 rch VBnightlifeÂ in the app stores!\n\nSpecial Events\nLocals Only VIP
  Discount CardÂ Details\nColonial Shooting Academy:Â Concealed Carry N
 ightÂ Every Wednesday from 5PM-8PM bring your concealment permit and r
 eceive 25% off a full priced lane rental\nMuseum of Contemporary Art (
 MOCA) Now on Exhibit\n\n\nLive Entertainment\nBella Monte Restaurant &
  EnotecaÂ -Â 1201 Laskin RdÂ - Charlie Wiseman onÂ 9-foot concert gran
 d pianoÂ 6:30 to 9:30p\nBoneshakers - Â 9pm\nCactus Jacks - Â 7p\nEagl
 es Nest - Ladies Night w/ DJ ToeKnee 7p\nHot Tuna - Shore Drive - Happ
 y Hour 4 to 9p\nJerry's Chesapeake - Ladies Night w/ TNT Karaoke\nKeag
 ans Irish Pub- Town Center - Brandon BowerÂ 10p\nLongshots Billiards &
  Darts- Chesapeake- Karaoke & Free Texas Holdem Poker at 7 & 9; Free t
 o Play\nMurphy's Irish Pub - Strange Rootz 9:30p\nRY Lounge - Oceanfro
 nt - DJ & Dancing 10p\nSouth Beach Grill - Wok Outz 9p\nTradewinds - Â
  7p\nWing King - Rosemont - Open Mic w/ Dana & Sergio 8:30pÂ COUPON\nW
 ing King - Kempsville -Â Trivia 7pm, Karaoke 8:30p Â COUPON\nWoody McG
 ee's Barstro - Holland Road - Â 9p\n\n\n\nFor more information visit h
 ttps://vbnightlife.com/events/click-here-for-wednesday-4-27-16-virgini
 a-beach-events-entertainm
DTSTART:20160427T040000Z
DTEND:20160428T035900Z
CATEGORIES:"virginia beach events", "virginia beach nightlife", "event
 s in virginia beach", "\"happy", hour, in, virginia, "beach'"
LOCATION:Virginia Beach, VA
WEBSITE:
URL:
CONTACT:
ORGANIZER:VBnightlife.com / vbdaylife
ATTACH;FMTTYPE="image/jpeg":http://storage.ning.com/topology/rest/1.0/
 file/get/1664306881?profile=original
ATTENDEE;ROLE=REQ-PARTICIPANT;PARTSTAT=ACCEPTED;RSVP=TRUE;CN="VBnightl
 ife.com":https://vbnightlife.com/profile/admin
END:VEVENT
END:VCALENDAR
