BEGIN:VCALENDAR
PRODID:NingEventWidget-v1
VERSION:2.0
METHOD:PUBLISH
BEGIN:VEVENT
UID:2508951:Event:334206
DTSTAMP:20260422T150848Z
SUMMARY:Click here for WEDNESDAY 3/9/16 VIRGINIA BEACH EVENTS & ENTERT
 AINMENT LISTINGS
DESCRIPTION:Download the new FREE mobile app for Virginia Beach.  Sea
 rch VBnightlife in the app stores!\n\nSpecial Events\nLocals Only VIP
  Discount Card Details\nColonial Shooting Academy: Concealed Carry N
 ight Every Wednesday from 5PM-8PM bring your concealment permit and r
 eceive 25% off a full priced lane rental\nMuseum of Contemporary Art (
 MOCA) Now on Exhibit\nSandler Center - Bing Bang Boom! Science Show 10
 a to 12p\n\nLive Entertainment\n501 City Grill - Birdneck Road - Dave 
 Derring 8p \nBella Monte Restaurant & Enoteca - 1201 Laskin Rd - C
 harlie Wiseman on 9-foot concert grand piano 6:30 to 9:30p\nBoneshak
 ers - Live Music  9pm\nCactus Jacks - The Blue Mile 6p\nConference Ce
 nter - Lewis McGehee\nEagles Nest - Ladies Night w/ DJ ToeKnee 7p\nHot
  Tuna -Shore Drive - RnR Duo 7:30p, Reality Bites Back 9:30p\nJerry's 
 Chesapeake - Ladies Night w/ TNT Karaoke\nKeagans Irish Pub- Town Cent
 er- Brandon Bower Band 10p\nLongshots Billiards & Darts- Chesapeake- 
 Karaoke & Free Texas Holdem Poker at 7 & 9; Free to Play\nMurphy's Iri
 sh Pub - No live music tonight\nRY Lounge - Oceanfront - DJ & Dancing 
 10p\nSouth Beach Grill - TBA  9p\nTradewinds (VB Conference Center) -
  Lewis McGehee 7p\nWing King - Rosemont - Open Mic w/ Dana & Sergio 8:
 30p COUPON\nWing King - Kempsville - Trivia 7pm  COUPON\nWoody McGe
 e's Barstro - Holland Road - Dave Johnson 9p\n\n\n\nFor more informati
 on visit https://vbnightlife.com/events/click-here-for-wednesday-3-9-1
 6-virginia-beach-events-entertainme
DTSTART:20160309T050000Z
DTEND:20160310T045900Z
CATEGORIES:"virginia beach events", "virginia beach nightlife", "event
 s in virginia beach", "\"happy", hour, in, virginia, "beach'"
LOCATION:Virginia Beach, VA
WEBSITE:
URL:
CONTACT:
ORGANIZER:VBnightlife.com / vbdaylife
ATTACH;FMTTYPE="image/jpeg":http://storage.ning.com/topology/rest/1.0/
 file/get/1664304395?profile=original
ATTENDEE;ROLE=REQ-PARTICIPANT;PARTSTAT=ACCEPTED;RSVP=TRUE;CN="VBnightl
 ife.com":https://vbnightlife.com/profile/admin
END:VEVENT
END:VCALENDAR
