BEGIN:VCALENDAR
PRODID:NingEventWidget-v1
VERSION:2.0
METHOD:PUBLISH
BEGIN:VEVENT
UID:2508951:Event:186991
DTSTAMP:20260423T132102Z
SUMMARY:Click here for WEDNESDAY 1/25/11 VIRGINIA BEACH ENTERTAINMENT 
 LISTINGS
DESCRIPTION:LIVE ENTERTAINMENT\nElement Lounge- Wine Down Wednesdays w
 /DJ Problem and DJ Havoc\nH20- Lewis McGehee, 7-10PM\nHot Tuna- Snackb
 ar Jones, 9PM\nHavanah Nights- Justin Kauflin Duo, 8-11PM\nKeagans- Bo
 rderline Crazy, 10PM\nKnuckleheads- Live Music\nKrossroads- West & Dan
 iels\nSouth Beach Grill- Power Play\n\nTHEATRE/FUNDRAISERS/CONCERTS/SP
 ORTS:\nSandler Center- Clifford the Big Red Dog\nFunny Bone Comedy Clu
 b -Al Goodwin\nWells Theatre- Black Pearl Sings, 7PM\n\nDJ’S/KARAOKE
 /DANCES:\nAJ Gators- Karaoke w/ Scotty, 9PM\nRetro Cafe- Karaoke\nCabo
 - DJ Bryan One & Tias\nChicho’s 29th - *KARAOKE\nFlashbacks- Karaoke
 \nGeared Up Rock Bar - Karaoke\nHot Tuna - DJ\nStarz- Karaoke\nWoodys-
  Beer Pong Tournament ($150 Cash Prize), 10PM\nWannaBs- Karaoke, 7PM-2
 AM (Monday-Saturday, 21+)\n\nFAMILY FUN/SPECIAL EVENTS\nLittle Theatre
  of Virginia Beach- Getting Away with Murder (through February 5th) \
 nCLICK HERE FOR HAPPY HOUR DEALS\nCLICK HERE REACH OUR VENUE'S PAGE \n
 CLICK HERE FOR OUR BAND/DJ PAGE\nBookings can change at the last minut
 e, so we recommend checking with the venue before heading out!\n\n\nFo
 r more information visit https://vbnightlife.com/events/click-here-for
 -wednesday-2
DTSTART:20120125T050000Z
DTEND:20120126T045900Z
CATEGORIES:"virginia beach", "virginia beach entertainment", "virginia
  beach bands", "virginia beach nightlife"
LOCATION:Virginia Beach
WEBSITE:
URL:
CONTACT:
ORGANIZER;CN="VBnightlife.com":https://vbnightlife.com/profile/admin
ATTACH;FMTTYPE="image/jpeg":http://storage.ning.com/topology/rest/1.0/
 file/get/1664161926?profile=original
ATTENDEE;ROLE=REQ-PARTICIPANT;PARTSTAT=ACCEPTED;RSVP=TRUE;CN="VBnightl
 ife.com":https://vbnightlife.com/profile/admin
END:VEVENT
END:VCALENDAR
