BEGIN:VCALENDAR
PRODID:NingEventWidget-v1
VERSION:2.0
METHOD:PUBLISH
BEGIN:VEVENT
UID:2508951:Event:189599
DTSTAMP:20260423T065447Z
SUMMARY:Click here for WEDNESDAY 2/29/12 VIRGINIA BEACH ENTERTAINMENT 
 LISTINGS
DESCRIPTION:LIVE ENTERTAINMENT\n501 City Grill- Back to the '80's w/ T
 he Deloreans\nAbbey Road- Open Stage\nElement Lounge- Wine Down Wednes
 days w/DJ Problem & DJ Havoc\nH20- Lewis McGehee, 7PM\nHot Tuna- Snack
 bar Jones, 9PM\nHavanah Nights- Chris Brydge Duo- 8-11PM\nKrossroads- 
 West & Daniels\nKnuckleheads- Ladies Night w/ Live Entertainment (Ever
 y Wednesday)\nSeaside Raw Bar - Eazy D (Every Wednesday)\nSouth Beach 
 Grill- Spider Love\n\n\nTHEATRE/FUNDRAISERS/CONCERTS/SPORTS:\nFunny Bo
 ne Comedy Club - Clash of the Comics- Mar. 13th\nScope- 2012 Eastern R
 egion High School Basketball Tournament\nWells Theatre- Death of a Sal
 esman\n\n\nDJ’S/KARAOKE/DANCES:\nAJ Gators- Karaoke w/ Scotty, 9PM\n
 Brass Bell- Karaoke\nRetro Cafe- Karaoke\nCabo- DJ Bryan One & Tias\nC
 hicho’s 29th - *KARAOKE\nGeared Up- Karaoke & Rockband III\nHot Tuna
  - DJ\nPoppa’s Pub - *KARAOKE* 9:30PM\nJewish Mother- MOMS KARAOKE 8
 pm\nSammy's- Karaoke & Live DJ\nStarz- Karaoke\nWoodys- Beer Pong Tour
 nament ($150 Cash Prize), 10PM\nWannaBs- Karaoke, 7PM-2AM (Monday-Satu
 rday, 21+)\nWing King- Open Mic w/ Dahna & Sergio, 10PM\n\nCLICK HERE 
 FOR HAPPY HOUR DEALS\nCLICK HERE REACH OUR VENUE'S PAGE\nCLICK HERE FO
 R OUR BAND/DJ PAGE\n\nFor more information visit https://vbnightlife.c
 om/events/click-here-for-wednesday-2-29-12-virginia-beach-entertainmen
 t-lis
DTSTART:20120229T050000Z
DTEND:20120301T045900Z
CATEGORIES:"virginia beach entertainment", "virginia beach nightlife"
LOCATION:Virginia Beach
WEBSITE:
URL:
CONTACT:
ORGANIZER;CN="VBnightlife.com":https://vbnightlife.com/profile/admin
ATTACH;FMTTYPE="image/jpeg":http://storage.ning.com/topology/rest/1.0/
 file/get/1664163240?profile=original
ATTENDEE;ROLE=REQ-PARTICIPANT;PARTSTAT=ACCEPTED;RSVP=TRUE;CN="VBnightl
 ife.com":https://vbnightlife.com/profile/admin
END:VEVENT
END:VCALENDAR
