BEGIN:VCALENDAR
PRODID:NingEventWidget-v1
VERSION:2.0
METHOD:PUBLISH
BEGIN:VEVENT
UID:2508951:Event:210711
DTSTAMP:20260423T045010Z
SUMMARY:Click here for WEDNESDAY 2/27/13 VIRGINIA BEACH ENTERTAINMENT 
 LISTINGS
DESCRIPTION:LIVE ENTERTAINMENT/ DJâ€™S/ KARAOKE:\n7 Martini & Tapas- B
 rent Shepard\n501 City Grill- Longreef 9pm\nGrumpys- Karaoke w/ KJ Tra
 cie\nHot Tuna- DJ Joe Fu\nIl Giardino's â€“Billy Batte\nKeagans- Brand
 on Bower Band\nPortside Inn- Karaoke\nSouth Beach Grill- Snackbar Jone
 s\nVirginia Beach Resort Hotel- Lewis McGeheeÂ Â Â Â Â Â Â Â Â Â Â Â Â
  Â Â Â Â Â \nWoody McGees Barstro â€“ John Baldwin\nÂ \nSPECIAL EVENTS
 /CONCERTS/ FESTIVALS:\nGreen in the Military- Virginia Beach Conventio
 n Center\nTrinidad Jame$- The Norva\nFree Audio Tours AND The Pushers-
  MOCA\nÂ \nCLICK HERE FOR HAPPY HOUR DEALS FEATURING SEVERAL LOCAL RES
 TAURANTS DAILY SPECIALS\nÂ \nCLICK HERE REACH OUR VENUE'S PAGEÂ TO FIN
 D ADDRESSES AND PHONE NUMBERS OF PLACES LISTED\nÂ \nCLICK HERE FOR OUR
  BAND/DJ PAGEÂ TO FIND DESCRIPTION OF THE BANDS AND LINKS TO THEIR WEB
  PAGES\n\nFor more information visit https://vbnightlife.com/events/cl
 ick-here-for-wednesday-2-27-13-virginia-beach-entertainment-lis
DTSTART:20130227T050000Z
DTEND:20130228T045900Z
CATEGORIES:"virginia beach", "virginia beach nightlife", "virginia bea
 ch bands"
LOCATION:Virginia Beach, VA
WEBSITE:
URL:
CONTACT:
ORGANIZER;CN="VBnightlife.com":https://vbnightlife.com/profile/admin
ATTACH;FMTTYPE="image/jpeg":http://storage.ning.com/topology/rest/1.0/
 file/get/1664185166?profile=original
ATTENDEE;ROLE=REQ-PARTICIPANT;PARTSTAT=ACCEPTED;RSVP=TRUE;CN="VBnightl
 ife.com":https://vbnightlife.com/profile/admin
END:VEVENT
END:VCALENDAR
