BEGIN:VCALENDAR
PRODID:NingEventWidget-v1
VERSION:2.0
METHOD:PUBLISH
BEGIN:VEVENT
UID:2508951:Event:188967
DTSTAMP:20260423T083059Z
SUMMARY:Click here for WEDNESDAY 2/22/12 VIRGINA BEACH ENTERTAINMENT
DESCRIPTION:LIVE ENTERTAINMENT\nAbbey Road- Open Stage\nBlue Petes- Mi
 ke deMoss\nChichos- Spoiled Americans, Invaluable, and The Wet Boys\nE
 lement Lounge- Wine Down Wednesdays w/DJ Problem & DJ Havoc\nH20- Lewi
 s McGehee\nHot Tuna- Wednesday Night Party Rock w/DJ Joe Fu, 9PM\nHava
 nah Nights- Woody Beckner Duo- 8-11PM\nKrossroads- West & Daniels\nKnu
 ckleheads- Ladies Night w/ Live Entertainment (Every Wednesday)\nSeasi
 de Raw Bar - Eazy D (Every Wednesday)\nSouth Beach Grill- Power Play\n
 \nTHEATRE/FUNDRAISERS/CONCERTS/SPORTS:\nFunny Bone Comedy Club - Clash
  of the Comics- Mar. 13th\nScope- 2012 Eastern Region High School Bask
 etball Tournament\nWells Theatre- Death of a Salesman\n\nDJ’S/KARAOK
 E/DANCES:\nAJ Gators- Karaoke w/ Scotty, 9PM\nBrass Bell- Karaoke\nRet
 ro Cafe- Karaoke\nCabo- DJ Bryan One & Tias\nColonial Italian Restaura
 nt- Open Mic w/ Rob Gray\nChicho’s 29th - *KARAOKE\nGeared Up- Karao
 ke & Rockband III\nHot Tuna - DJ\nPoppa’s Pub - *KARAOKE* 9:30PM\nJe
 wish Mother- MOMS KARAOKE 8pm\nStarz- Karaoke\nWoodys- Beer Pong Tourn
 ament ($150 Cash Prize), 10PM\nWannaBs- Karaoke, 7PM-2AM (Monday-Satur
 day, 21+)\nWing King- Open Mic w/ Dahna & Sergio, 10PM\n\nCLICK HERE F
 OR HAPPY HOUR DEALS\nCLICK HERE REACH OUR VENUE'S PAGE \nCLICK HERE F
 OR OUR BAND/DJ PAGE\n\nFor more information visit https://vbnightlife.
 com/events/click-here-for-wednesday-2-22-12-virgina-beach-entertainmen
 t
DTSTART:20120222T050000Z
DTEND:20120223T045900Z
CATEGORIES:"virginia beach enertainment", "virginia beach bands", "vir
 ginia beach nightlife"
LOCATION:Virginia Beach
WEBSITE:
URL:
CONTACT:
ORGANIZER;CN="VBnightlife.com":https://vbnightlife.com/profile/admin
ATTACH;FMTTYPE="image/jpeg":http://storage.ning.com/topology/rest/1.0/
 file/get/1664160186?profile=original
ATTENDEE;ROLE=REQ-PARTICIPANT;PARTSTAT=ACCEPTED;RSVP=TRUE;CN="VBnightl
 ife.com":https://vbnightlife.com/profile/admin
END:VEVENT
END:VCALENDAR
