BEGIN:VCALENDAR
PRODID:NingEventWidget-v1
VERSION:2.0
METHOD:PUBLISH
BEGIN:VEVENT
UID:2508951:Event:210703
DTSTAMP:20260420T122737Z
SUMMARY:Click here for WEDNESDAY 2/20/13 VIRGINIA BEACH ENTERTAINMENT 
 LISTINGS
DESCRIPTION:LIVE ENTERTAINMENT/ DJ’S/ KARAOKE:\n501 City Grill- Rock
 Star Parking\nAbbey Rd- Open Stage\nCalypso- Pridemore\nFinn McCools- 
 Dr. Grin\nGrumpys- Karaoke w/ KJ Tracie\nHot Tuna- Snackbar Jones\nIl 
 Giardino's –Billy Batte\nJewish Mother Hilltop- Zoogma/Kung Fu\nKeag
 ans- Brandon Bower Band\nLocals- Brian Sewell\nPortside Inn- Karaoke\n
 Virginia Beach Resort Hotel- Lewis McGehee\nCorporate Gray Job Fair- V
 irginia Beach Convention Center\nVirginia Opera’s: A Streetcar Named
  Desire- Harrison Opera House\nSouth Beach Grill- Vinyl Headlights\nSu
 rf Club Ocean Grill -North End Wine Tasting & Networking ft. Brent She
 pard\nWing King- Open Mic\nWoody McGees Barstro – Terry Kemp\n \nSP
 ECIAL EVENTS/CONCERTS/ FESTIVALS:\n TBA\n \nCLICK HERE FOR HAPPY HOU
 R DEALS FEATURING SEVERAL LOCAL RESTAURANTS DAILY SPECIALS\n \nCLICK 
 HERE REACH OUR VENUE'S PAGE TO FIND ADDRESSES AND PHONE NUMBERS OF PL
 ACES LISTED\n \nCLICK HERE FOR OUR BAND/DJ PAGE TO FIND DESCRIPTION 
 OF THE BANDS AND LINKS TO THEIR WEB PAGES\n\nFor more information visi
 t https://vbnightlife.com/events/click-here-for-wednesday-2-20-13-virg
 inia-beach-entertainment-lis
DTSTART:20130220T050000Z
DTEND:20130221T045900Z
CATEGORIES:"virginia beach", "virginia beach nightlife", "virginia bea
 ch bands"
LOCATION:Virginia Beach, VA
WEBSITE:
URL:
CONTACT:
ORGANIZER;CN="VBnightlife.com":https://vbnightlife.com/profile/admin
ATTACH;FMTTYPE="image/jpeg":http://storage.ning.com/topology/rest/1.0/
 file/get/1664185849?profile=original
ATTENDEE;ROLE=REQ-PARTICIPANT;PARTSTAT=ACCEPTED;RSVP=TRUE;CN="VBnightl
 ife.com":https://vbnightlife.com/profile/admin
END:VEVENT
END:VCALENDAR
