BEGIN:VCALENDAR
PRODID:NingEventWidget-v1
VERSION:2.0
METHOD:PUBLISH
BEGIN:VEVENT
UID:2508951:Event:324428
DTSTAMP:20260422T180501Z
SUMMARY:Click here for WEDNESDAY 2/17/16 VIRGINIA BEACH EVENTS & ENTER
 TAINMENT LISTINGS
DESCRIPTION:Download the new FREE mobile app for Virginia Beach. Â Sea
 rch VBnightlifeÂ in the app stores!\n\nSpecial Events\nLocals Only VIP
  Discount CardÂ Details\nColonial Shooting Academy:Â Concealed Carry N
 ightÂ Every Wednesday from 5PM-8PM bring your concealment permit and r
 eceive 25% off a full priced lane rental\nMuseum of Contemporary Art (
 MOCA) Now on Exhibit\nSandler Center - Out of the Box Series: Gina Dal
 mas & The Cow Tippin' Playboys 6 to 9p\n\n\nLive Entertainment\n501 Ci
 ty Grill - Birdneck Road -Â  RNR 9p\nBella Monte Restaurant & EnotecaÂ
  -Â 1201 Laskin RdÂ - Charlie Wiseman onÂ 9-foot concert grand pianoÂ 
 6:30 to 9:30p\nBoneshakers -Â  Karaoke w/ DJ EZ ED 7p\nCactus Jacks - 
 Atlantic Ave - Red Stapler 6p to 9p\nChops - Oceanfront - Â 9:30p\nEag
 les Nest - Buckwild Wednesdays Free Line Dance Lessons w/Kenny + DJ To
 eKnee 7p\nHot Tuna -Shore Drive - Johnny Smallwood 7:30, DJ Alex Lambr
 ino 9:30p\nJerry's Chesapeake - Ladies Night w/ TNT Karaoke\nKeagans I
 rish Pub- Town Center-Â  10p\nLongshots Billiards & Darts- Chesapeake-
  Karaoke & Free Texas Holdem Poker at 7 & 9; Free to Play\nMurphy's Ir
 ish Pub - Strange Rootz 9p\nRY Lounge - Oceanfront - DJ & Dancing 10p\
 nSouth Beach Grill - Blackwater Jam 9p\nWing King - Rosemont - Open Mi
 c w/ Dana & Sergio 8:30pÂ COUPON\nWing King - Kempsville -Â Trivia 7pm
  Â COUPON\nWoody McGee's Barstro - Holland Road - Dustin Furlow 9:30p\
 n\n\n\n\nFor more information visit https://vbnightlife.com/events/cli
 ck-here-for-wednesday-2-17-16-virginia-beach-events-entertainm
DTSTART:20160217T050000Z
DTEND:20160218T045900Z
CATEGORIES:"virginia beach events", "virginia beach nightlife", "event
 s in virginia beach", "\"happy", hour, in, virginia, "beach'"
LOCATION:Virginia Beach, VA
WEBSITE:
URL:
CONTACT:
ORGANIZER:VBnightlife.com / vbdaylife
ATTACH;FMTTYPE="image/jpeg":http://storage.ning.com/topology/rest/1.0/
 file/get/1664301638?profile=original
ATTENDEE;ROLE=REQ-PARTICIPANT;PARTSTAT=ACCEPTED;RSVP=TRUE;CN="VBnightl
 ife.com":https://vbnightlife.com/profile/admin
END:VEVENT
END:VCALENDAR
