BEGIN:VCALENDAR
PRODID:NingEventWidget-v1
VERSION:2.0
METHOD:PUBLISH
BEGIN:VEVENT
UID:2508951:Event:210854
DTSTAMP:20260419T174058Z
SUMMARY:Click here for WEDNESDAY 2/13/13 VIRGINIA BEACH ENTERTAINMENT 
 LISTINGS
DESCRIPTION:LIVE ENTERTAINMENT/ DJ’S/ KARAOKE:\nAbbey Rd- Open Stage
 \nBoneshakers Sports Bar and Grill  - Cody Austin\nFinn McCools- Grin
 der Switch\nGrumpys- Karaoke w/ KJ Tracie\nHot Tuna- Singles Masquarad
 e ft. DJ Oh!Boy\nIl Giardino's –Billy Batte\nJewish Mother- Jackie S
 cott\nKeagans- Brandon Bower Band\nPortside Inn- Karaoke\nShakas- Love
  & Hip Hop\nSouth Beach Grill- Janitors\nVirginia Beach Resort Hotel- 
 Lewis McGehee\nWing King- Opn Mic\nWoody McGees Barstro – Dave Johns
 on\n \nSPECIAL EVENTS/CONCERTS/ FESTIVALS:\nQuincy Carr Inc Presents 
 The Quality Comedy Series-  Virginia Beach Funny Bone\nFree Audio Tou
 rs- MOCA\n \nCLICK HERE FOR HAPPY HOUR DEALS FEATURING SEVERAL LOCAL 
 RESTAURANTS DAILY SPECIALS\n \nCLICK HERE REACH OUR VENUE'S PAGE TO 
 FIND ADDRESSES AND PHONE NUMBERS OF PLACES LISTED\n \nCLICK HERE FOR 
 OUR BAND/DJ PAGE TO FIND DESCRIPTION OF THE BANDS AND LINKS TO THEIR 
 WEB PAGES\n\nFor more information visit https://vbnightlife.com/events
 /click-here-for-wednesday-2-13-13-virginia-beach-entertainment-lis
DTSTART:20130213T050000Z
DTEND:20130214T045900Z
CATEGORIES:"virginia beach", "virginia beach nightlife", "virginia bea
 ch bands"
LOCATION:Virginia Beach, VA
WEBSITE:
URL:
CONTACT:
ORGANIZER;CN="VBnightlife.com":https://vbnightlife.com/profile/admin
ATTACH;FMTTYPE="image/jpeg":http://storage.ning.com/topology/rest/1.0/
 file/get/1664185523?profile=original
ATTENDEE;ROLE=REQ-PARTICIPANT;PARTSTAT=ACCEPTED;RSVP=TRUE;CN="VBnightl
 ife.com":https://vbnightlife.com/profile/admin
END:VEVENT
END:VCALENDAR
