BEGIN:VCALENDAR
PRODID:NingEventWidget-v1
VERSION:2.0
METHOD:PUBLISH
BEGIN:VEVENT
UID:2508951:Event:208493
DTSTAMP:20260423T212216Z
SUMMARY:Click here for WEDNESDAY 12/5/12 VIRGINIA BEACH ENTERTAINMENT 
 LISTINGS
DESCRIPTION:LIVE ENTERTAINMENT/ DJâ€™S/ KARAOKE:\n7 Martini & Tapas- J
 ohn Baldwin\n11th Street Taphouse- Joe Heilman\nAbbey Rd.- Open Stage\
 nBayside Bar & Grill-DJ/Ladies Night\nCalypso- Jesse Chong\nCentral 11
 1- DJ\nFrog Sports Bar & Grill- DJ\nGrumpys- Karaoke\nH20- Lewis McGeh
 ee, John Crane, Michael McCarthy, Richard Spano, & Rick Lutz\nHot Tuna
 - Snackbar Jones\nIl Giardino's â€“ Billy Batte\nPortside Inn-Karaoke\
 nSouth Beach Grill- Hotcakes\nWing King- Open Mic\nWoody McGees Barstr
 o Â -Tim Branson\nÂ \nÂ \nSPECIAL EVENTS/CONCERTS/ FESTIVALS:\nMcDonal
 ds Holiday Lights at the Beach\nTCC Music Dept. Holiday Concert- Roper
  Theatre\nDan Cummins- Virginia Beach Funny Bone\nWiz Khalifa- Ted Con
 stant Center\nÂ \nCLICK HERE FOR HAPPY HOUR DEALS FEATURING SEVERAL LO
 CAL RESTAURANTS DAILY SPECIALS\nÂ \nCLICK HERE REACH OUR VENUE'S PAGEÂ
  TO FIND ADDRESSES AND PHONE NUMBERS OF PLACES LISTED\nÂ \nCLICK HERE 
 FOR OUR BAND/DJ PAGEÂ TO FIND DESCRIPTION OF THE BANDS AND LINKS TO TH
 EIR WEB PAGES\n\nFor more information visit https://vbnightlife.com/ev
 ents/click-here-for-wednesday-12-5-12-virginia-beach-entertainment-lis
DTSTART:20121205T050000Z
DTEND:20121206T045900Z
CATEGORIES:"virginia beach", "virginia beach nightlife", "virginia bea
 ch bands"
LOCATION:Virginia Beach
WEBSITE:
URL:
CONTACT:
ORGANIZER;CN="VBnightlife.com":https://vbnightlife.com/profile/admin
ATTACH;FMTTYPE="image/jpeg":http://storage.ning.com/topology/rest/1.0/
 file/get/1664182433?profile=original
ATTENDEE;ROLE=REQ-PARTICIPANT;PARTSTAT=ACCEPTED;RSVP=TRUE;CN="VBnightl
 ife.com":https://vbnightlife.com/profile/admin
END:VEVENT
END:VCALENDAR
