BEGIN:VCALENDAR
PRODID:NingEventWidget-v1
VERSION:2.0
METHOD:PUBLISH
BEGIN:VEVENT
UID:2508951:Event:175603
DTSTAMP:20260420T134723Z
SUMMARY:Click here for WEDNESDAY 11/9/11 VIRGINIA BEACH ENTERTAINMENT 
 LISTING
DESCRIPTION:ENTERTAINMENT:\nBayside Bar and Grill- ODU Party bus to Ba
 yside Bar\nGreen Onion- Live Music and all you can eat mussels!\nIL Gi
 ardino- Live entertainment in the lounge w/ Mr. Billy Batte- 7PM\nH20-
  Lewis McGehee- 7-10PM\nHot Tuna- Snackbar Jones\nJewish Mother- Fishb
 one/ Duburbia- 9PM\nKeagan's Town Center - Jesse Chong 10pm\nNats- Dav
 e Waltrip & Nick Thomas- 9PM\nSouth Beach Grill- Trailerhood\n\nTHEATR
 E/FUNDRAISERS/CONCERTS/SPORTS:\nAdmirals vs. W-B/Scranton- 7:15PM\n\nD
 J’S/KARAOKE/DANCES:\nAbbey Road – *BEATLES KARAOKE* w/ TIM BEASLEY
  as JOHN LENNON 9:30PM Retro Cafe- BEER PONG WET BALLS WEDNESDAY 10pm\
 nChicho’s 29th - *KARAOKE\nWannaB's- KARAOKE 7 PM - 2 AM  Monday - 
 Saturday (21 and Older) \nShakas- WOBBLE WEDNESDAYS - BAR OLYMPICS-10
 pm\n\nHAPPY HOUR: \nCLICK HERE FOR HAPPY HOUR DEALS\nCLICK HERE REACH
  OUR VENUE'S PAGE TO FIND ADDRESSES AND PHONE NUMBERS OF PLACES LISTE
 D CLICK HERE FOR OUR BAND/DJ PAGE TO FIND DESCRIPTION OF THE BANDS AN
 D LINKS TO THEIR WEB PAGES \n\nFor more information visit https://vbn
 ightlife.com/events/click-here-for-wednesday-11-9-11-virginia-beach-en
 tertainment-lis
DTSTART:20111109T050000Z
DTEND:20111110T045900Z
CATEGORIES:"virginia beach", "virginia beach entertainment", "virginia
  beach bands"
LOCATION:\"virginia Beach
WEBSITE:
URL:
CONTACT:
ORGANIZER;CN="VBnightlife.com":https://vbnightlife.com/profile/admin
ATTACH;FMTTYPE="image/jpeg":http://storage.ning.com/topology/rest/1.0/
 file/get/1664153620?profile=original
ATTENDEE;ROLE=REQ-PARTICIPANT;PARTSTAT=ACCEPTED;RSVP=TRUE;CN="VBnightl
 ife.com":https://vbnightlife.com/profile/admin
END:VEVENT
END:VCALENDAR
