BEGIN:VCALENDAR
PRODID:NingEventWidget-v1
VERSION:2.0
METHOD:PUBLISH
BEGIN:VEVENT
UID:2508951:Event:299380
DTSTAMP:20260420T035405Z
SUMMARY:Click here for WEDNESDAY 11/5/14 VIRGINIA BEACH EVENTS & ENTER
 TAINMENT LISTINGS
DESCRIPTION:Download the new FREE mobile app for Virginia Beach.  Sea
 rch VBnightlife in the iTunes or Google Play stores today and get a co
 mplete list of events, happy hour, restaurant recommendations, coupons
  and more! Use this link for a direct download http://onelink.to/yae3
 t5\n\nFEATURED EVENT: Jazz & Wine Jam and After Work Party at Ammos R
 estaurant - LIVE MUSIC AND $10 off Bottles of Wine at  Ammos Authent
 ic Greek Restaurant - Address and Directions: 324 N. Great Neck Road,
  Virginia Beach  \n \nLive Music:\nAbbey Road - Louis Smith  9pm\n
 Ammos Authentic Greek Cuisine - Live Jazz and $10 off bottles of wine 
 6:30 to 9:30\nEagles Nest - HILLTOP - Free line dance lessons, and DJ
  Toeknee\nFinn McCool's - Princess Anne - Ladies Night w/ Karaoke 9pm\
 nFroggies - Shore Drive - Trivia Night every Wednesdays Prizes with Sm
 artmouth  7PM \nGrumpy's - Kempsville - Karaoke 7pm\nHot Tuna -   1
 0pm\nJake's Smokehouse & BBQ - General Booth - Lunch & Early Bird Spe
 cials 11am to 5pm\nJerry's Chesapeake - 7pm Ladies Night w/ RnR Band -
  Get your 1/2 Price Voucher for food and drink here\nKeagans - Town C
 enter - Brandon Bower Band 10pm\nNat's Sports Bar - Mediteranean - VB 
 * OPEN MIC /w \"DAHNA ROWE\" 9pm\nPoppa's Pub - Diamond Springs Rd - K
 araoke 9:30pm\nShaka's - 21st Street -   7pm\nSly Fox - Ladies Night 
 - DJ Joe 8pm and Drink Specials\nSouth Beach Grill - Hotcakes 9pm\nSta
 n's American Bistro -  $4 House Wines Till 9pm. See all Happy Hour l
 istings on the Mobile App\nWing King Rosemont Rd - Open Mic w/ Dana & 
 Sergio 9pm\nWing King Kempsville - Trivia Night 7pm; Rudy & Kelly Nigh
 t featuring Kaboombox 9:30opm\nWoody McGees - Dustin Stumph 9pm\n\nOth
 er Events:  \nColonial Shooting Academy: Concealed Carry Night - Ev
 ery Wednesday from 5PM-8PM bring your concealment permit and receive 2
 5% off a full priced lane rental. \n \n\nFor more information visit 
 https://vbnightlife.com/events/click-here-for-wednesday-11-5-14-virgin
 ia-beach-events-entertainm
DTSTART:20141105T050000Z
DTEND:20141106T045900Z
CATEGORIES:"virginia beach events", "virginia beach nightlife", "event
 s in virginia beach", "\"happy", hour, in, virginia, "beach'"
LOCATION:Virginia Beach, VA
WEBSITE:
URL:
CONTACT:
ORGANIZER;CN="VBnightlife.com":https://vbnightlife.com/profile/admin
ATTACH;FMTTYPE="image/jpeg":http://storage.ning.com/topology/rest/1.0/
 file/get/1664253607?profile=original
ATTENDEE;ROLE=REQ-PARTICIPANT;PARTSTAT=ACCEPTED;RSVP=TRUE;CN="VBnightl
 ife.com":https://vbnightlife.com/profile/admin
END:VEVENT
END:VCALENDAR
