BEGIN:VCALENDAR
PRODID:NingEventWidget-v1
VERSION:2.0
METHOD:PUBLISH
BEGIN:VEVENT
UID:2508951:Event:317264
DTSTAMP:20260424T121047Z
SUMMARY:Click here for WEDNESDAY 11/4/15 VIRGINIA BEACH EVENTS & ENTER
 TAINMENT LISTINGS
DESCRIPTION:Download the new FREE mobile app for Virginia Beach.  Sea
 rch VBnightlife in the app stores!\n\nSpecial Events\nVirginia Beach 
 Forum - Alan West 7:30 - Details here: http://vbnightlife.com/events/
 alan-west-at-virginia-beach-forum\n Colonial Shooting Academy: Conce
 aled Carry Night Every Wednesday from 5PM-8PM bring your concealment 
 permit and receive 25% off a full priced lane rental\nMuseum of Contem
 porary Art (MOCA) Now on Exhibit\n \nLive Entertainment\nBoneshakers 
 - Karaoke w/ DJ EZ Ed 7p\nChicho's - 29th Street - TBA\nChops - Ocean
 front - Skip Friel  6p\nEagles Nest - Hampton Roads Country Live Film
 ing 8p\nFroggies -Shore Drive - Mike Proffitt & Dana Silvercloud 7p\
 nHot Tuna -Shore Drive- 9:30p\nJerry's Chesapeake - 7pm Ladies Night w
 ith TNT Karaoke\nKeagans Irish Pub- Town Center- 10p\nLongshots Billi
 ards & Darts- Chesapeake- Free Texas Holdem Poker at 7 & 9; Free to Pl
 ay\nMurphy's Irish Pub -  8p\nRY Lounge - Oceanfront - DJ & Dancing 
 10p\nSouth Beach Grill - Hotcakes 9p\nTapped Gastropub - Hilltop -
   Info not available on their site 9p\nWing King - Rosemont - Open M
 ic w/Dana & Sergio 8:30p  COUPON\nWing King - Kempsville - Trivia 7
 pm + Open Mic 9p  COUPON\nWoody McGees - Holland Road -  Blood For
  Guns 9p\n\n\nFor more information visit https://vbnightlife.com/even
 ts/click-here-for-wednesday-11-4-15-virginia-beach-events-entertainm
DTSTART:20151104T050000Z
DTEND:20151105T045900Z
CATEGORIES:"virginia beach events", "virginia beach nightlife", "event
 s in virginia beach", "\"happy", hour, in, virginia, "beach'"
LOCATION:Virginia Beach, VA
WEBSITE:
URL:
CONTACT:
ORGANIZER:VBnightlife.com / vbdaylife
ATTACH;FMTTYPE="image/jpeg":http://storage.ning.com/topology/rest/1.0/
 file/get/1664290089?profile=original
ATTENDEE;ROLE=REQ-PARTICIPANT;PARTSTAT=ACCEPTED;RSVP=TRUE;CN="VBnightl
 ife.com":https://vbnightlife.com/profile/admin
END:VEVENT
END:VCALENDAR
