BEGIN:VCALENDAR
PRODID:NingEventWidget-v1
VERSION:2.0
METHOD:PUBLISH
BEGIN:VEVENT
UID:2508951:Event:299461
DTSTAMP:20260423T175131Z
SUMMARY:OUR BIG LIST OF PRE-THANKSGIVING PARTIES
DESCRIPTION:SearchÂ VBnightlifeÂ in the app stores to download the FRE
 E mobile app for Virginia Beach. Â Â Â \nFeatured:Â \nIce Skating at t
 he Oceanfront - $9 onÂ www.VBhotdeals.com\n\nLive Music:Â \nBayside Ba
 r - Shore Drive - Borderline Crazy\nCalypso - Linda Lombardi's Birthda
 y Party and Jesse Chong 6pm\nEagles Nest - HILLTOP -Â CODY AUSTIN AND 
 CHEAP THRILLS/ DJ CANROCK\nFresh Eats and Drinks - Herbie D and the Da
 ngermen 8pm Â½ price voucher available onÂ www.VBhotdeals.com\nFroggie
 s - Shore Drive - Â Kendall street company (Louis Smith) Â  9pmÂ Louis
  Smith @ Froggies Cantina by the Bay\nHot Tuna - Llamas at Brunch Â 10
 pm\nJageR's - Free Thanksgiving Dinner for Military + Feral 8pm - deta
 ils:Â http://vbnightlife.com/events/free-thanksgiving-dinner-for-our-m
 ilitary\nJake's Smokehouse & BBQ - General Booth -Â Lunch & Early Bird
  Specials 11am to 5pm\nJerry's Chesapeake - Â More Holla Band -Â Get y
 our 1/2 Price Voucher for food and drink here\nKeagans - Town Center -
  Brandon Bower Band 10pm\nMurphy's Irish Pub - Seth Stainback and Roos
 terfoot 9pm\nSly Fox - Ladies Night - DJ Joe 8pm and Drink Specials\nS
 outh Beach Grill - MILK Â 9pm\nStan's American BistroÂ - Â $4 House Wi
 nes Till 9pm. See all Happy Hour listings on the Mobile App\nTapped Ga
 stropub (Hilltop) Brian Sewell 8pm\nWaterman's - 80s Party in the Atti
 c w/ DJ Andy Kim\nWing King Rosemont Rd - Open Mic w/ Dana & Sergio 9p
 m\nWing King Kempsville - Trivia Night 7pm; Rudy & Kelly Night featuri
 ng Kaboombox 9:30opm\nWoody McGees - Dave Johnson 9pm\n\nOther Events:
  Â \nColonial Shooting Academy:Â Concealed Carry Night -Â Every Wednes
 day from 5PM-8PM bring your concealment permit and receive 25% off a f
 ull priced lane rental.Â \nMcDonald's Holiday Lights at the BeachÂ \nÂ
  Â \n\nFor more information visit https://vbnightlife.com/events/click
 -here-for-wednesday-11-26-14-virginia-beach-events-entertain
DTSTART:20141126T050000Z
DTEND:20141127T045900Z
CATEGORIES:"virginia beach events", "virginia beach nightlife", "event
 s in virginia beach", "\"happy", hour, in, virginia, "beach'"
LOCATION:Virginia Beach, VA
WEBSITE:
URL:
CONTACT:
ORGANIZER;CN="VBnightlife.com":https://vbnightlife.com/profile/admin
ATTACH;FMTTYPE="image/jpeg":http://storage.ning.com/topology/rest/1.0/
 file/get/1664256064?profile=original
ATTENDEE;ROLE=REQ-PARTICIPANT;PARTSTAT=ACCEPTED;RSVP=TRUE;CN="VBnightl
 ife.com":https://vbnightlife.com/profile/admin
END:VEVENT
END:VCALENDAR
