BEGIN:VCALENDAR
PRODID:NingEventWidget-v1
VERSION:2.0
METHOD:PUBLISH
BEGIN:VEVENT
UID:2508951:Event:318449
DTSTAMP:20260424T033237Z
SUMMARY:Click here for WEDNESDAY 11/25/15 VIRGINIA BEACH EVENTS & ENTE
 RTAINMENT LISTINGS
DESCRIPTION:Download the new FREE mobile app for Virginia Beach.  Sea
 rch VBnightlife in the app stores!\n\nSpecial Events\n Colonial Shoo
 ting Academy: Concealed Carry Night Every Wednesday from 5PM-8PM bri
 ng your concealment permit and receive 25% off a full priced lane rent
 al\nMuseum of Contemporary Art (MOCA) Now on Exhibit\n \nLive Enterta
 inment\nBoneshakers - The River Boyz 9pm\nEagles Nest - Thanksgiving E
 ve Blowout with The Cody Austin Band, DJ CanRock & Cheap Thrills7p\nFr
 oggies -Shore Drive - Plastic Eddie Band 7p PRE-THANKSGIVING PARTY 
 WITH PLASTIC EDDIE AT FROGGIES\nHot Tuna -Shore Drive - Not listed on 
 their site 9:30p\nJerry's Chesapeake - Pre-Thanksgiving Party with Run
 nin' Shine & Ladies Night\nKeagans Irish Pub- Town Center- Diego & Fr
 iends 10p\nLongshots Billiards & Darts- Chesapeake- Free Texas Holdem 
 Poker at 7 & 9; Free to Play\nMurphy's Irish Pub - Strange Rootz 9p\
 nRY Lounge - Oceanfront - DJ & Dancing 10p\nSouth Beach Grill - The J
 anitors 9p\nTapped Gastropub - Hilltop - Brian Sewell 9p\nWaterma
 n's - Old School Dance Party in the Attic 9p http://vbnightlife.com/e
 vents/thanksgiving-eve-80s-90s-dance-party\nWing King - Rosemont - Op
 en Mic w/Dana & Sergio 8:30p  COUPON\nWing King - Kempsville - Triv
 ia 7pm + Hotcakes 9p special farewell show http://vbnightlife.com/ev
 ents/hotcakes-special-farewell-show-at-wing-king\nWoody McGees - Holla
 nd Road -  Bebop & Rock Steady 9p\n\n\nFor more information visit h
 ttps://vbnightlife.com/events/click-here-for-wednesday-11-25-15-virgin
 ia-beach-events-entertain
DTSTART:20151125T050000Z
DTEND:20151126T045900Z
CATEGORIES:"virginia beach events", "virginia beach nightlife", "event
 s in virginia beach", "\"happy", hour, in, virginia, "beach'"
LOCATION:Virginia Beach, VA
WEBSITE:
URL:
CONTACT:
ORGANIZER:VBnightlife.com / vbdaylife
ATTACH;FMTTYPE="image/jpeg":http://storage.ning.com/topology/rest/1.0/
 file/get/1664290668?profile=original
ATTENDEE;ROLE=REQ-PARTICIPANT;PARTSTAT=ACCEPTED;RSVP=TRUE;CN="VBnightl
 ife.com":https://vbnightlife.com/profile/admin
END:VEVENT
END:VCALENDAR
