BEGIN:VCALENDAR
PRODID:NingEventWidget-v1
VERSION:2.0
METHOD:PUBLISH
BEGIN:VEVENT
UID:2508951:Event:299291
DTSTAMP:20260423T043946Z
SUMMARY:Click here for WEDNESDAY 11/19/14 VIRGINIA BEACH EVENTS & ENTE
 RTAINMENT LISTINGS
DESCRIPTION:Download the new FREE mobile app for Virginia Beach.  Sea
 rch VBnightlife in the iTunes or Google Play stores today and get a co
 mplete list of events, happy hour, restaurant recommendations, coupons
  and more! Use this link for a direct download http://onelink.to/yae3
 t5 \n\n Special Event:\nCrazy Good Donuts & Ice Cream - Spirit Nigh
 t for Strawbridge Elementary 15% of sales goes to PTA -  4-9pm \n\nL
 ive Music:\nAbbey Road - Louis Smith  9pm\nEagles Nest - HILLTOP - F
 ree line dance lessons, and DJ Toeknee\nFinn McCool's - Princess Anne 
 - Ladies Night w/ Karaoke 9pm\nFroggies - Shore Drive - Trivia Night e
 very Wednesdays Prizes with Smartmouth  7PM \nGrumpy's - Kempsville 
 - Karaoke 7pm\nHot Tuna - DJ Steve Dotson  10pm\nJake's Smokehouse & 
 BBQ - General Booth - Lunch & Early Bird Specials 11am to 5pm\nJerry'
 s Chesapeake - 7pm Ladies Night w/Dj Bobby Sellers- Get your 1/2 Pric
 e Voucher for food and drink here\nKeagans - Town Center - Brandon Bow
 er Band 10pm\nNat's Sports Bar - Mediteranean - VB * OPEN MIC /w \"DAH
 NA ROWE\" 9pm\nPoppa's Pub - Diamond Springs Rd - Karaoke 9:30pm\nSly 
 Fox - Ladies Night - DJ Joe 8pm and Drink Specials\nSouth Beach Grill 
 - Vinyl Headlights 9pm\nStan's American Bistro -  $4 House Wines Til
 l 9pm. See all Happy Hour listings on the Mobile App\nWing King Rosemo
 nt Rd/ Va Beach Blvd - Open Mic w/ Dana & Sergio 9pm*\nWing King Kemps
 ville - Trivia Night 7pm; Rudy & Kelly Night featuring Kaboombox 9:30o
 pm\nWoody McGees - Joe Heilman 9pm\n\nOther Events:  \nColonial Shoot
 ing Academy: Concealed Carry Night - Every Wednesday from 5PM-8PM br
 ing your concealment permit and receive 25% off a full priced lane ren
 tal. \n  \n\nFor more information visit https://vbnightlife.com/eve
 nts/click-here-for-wednesday-11-19-14-virginia-beach-events-entertain
DTSTART:20141119T050000Z
DTEND:20141120T045900Z
CATEGORIES:"virginia beach events", "virginia beach nightlife", "event
 s in virginia beach", "\"happy", hour, in, virginia, "beach'"
LOCATION:Virginia Beach, VA
WEBSITE:
URL:
CONTACT:
ORGANIZER;CN="VBnightlife.com":https://vbnightlife.com/profile/admin
ATTACH;FMTTYPE="image/jpeg":http://storage.ning.com/topology/rest/1.0/
 file/get/1664255784?profile=original
ATTENDEE;ROLE=REQ-PARTICIPANT;PARTSTAT=ACCEPTED;RSVP=TRUE;CN="VBnightl
 ife.com":https://vbnightlife.com/profile/admin
END:VEVENT
END:VCALENDAR
