BEGIN:VCALENDAR
PRODID:NingEventWidget-v1
VERSION:2.0
METHOD:PUBLISH
BEGIN:VEVENT
UID:2508951:Event:176081
DTSTAMP:20260420T151025Z
SUMMARY:Click here for WEDNESDAY 11/16/11 VIRGINIA BEACH ENTERTAINMENT
  LISTINGS
DESCRIPTION:ENTERTAINMENT\nBayside Bar and Grill- ODU Party Bus to Bay
 side Bar- 9:30PM\nCalypso- Monkeybooty\nGreen Onion- Live Music and al
 l you can eat mussels!\nIL Giardino- Live entertainment in the lounge 
 w/ Mr. Billy Batte- 7PM\nH20- Lewis McGehee- 7-10PM\nHot Tuna- Snackba
 r Jones\nKegans- Borderline Crazy\nKnuckleheads- Brett Eldridge\nNats-
  Dave Waltrip & Nick Thomas- 9PM\nSouth Beach Grill- Vinyl Headlights\
 nSurf Club Ocean Grill - James Deans + Wine Tasting 6-8pm\n \nTHEATRE
 /FUNDRAISERS/CONCERTS/SPORTS:\nSandler Center- Virginia Beach Forum pr
 esents Howard Fineman- 7:45PM\n\nDJ’S/KARAOKE/DANCES:\n15th Street R
 aw Bar- Wednesday Night Cornhole Tournament\nAbbey Road – *BEATLES K
 ARAOKE* w/ TIM BEASLEY as JOHN LENNON 9:30PM Retro Cafe- BEER PONG WET
  BALLS WEDNESDAY 10pm\nChicho’s 29th - *KARAOKE\n\nGuads Town Center
  - CHEAP THRILLS Poppa’s Pub - *KARAOKE* 9:30PM\nJewish Mother- MOMS
  KARAOKE 8pm\nReef Lounge- Eddie Sal Karaoke JamZ- 9PM\nWannaB's- KARA
 OKE 7 PM - 2 AM  Monday - Saturday (21 and Older)\nShakas- WOBBLE WED
 NESDAYS - BAR OLYMPICS-10pm\n\nHAPPY HOUR:\n11th Street Taphouse – b
 ogo half-a-tizers 4-9pm\nCLICK HERE FOR MORE HAPPY HOUR DEALS\nCLICK H
 ERE REACH OUR VENUE'S PAGE TO FIND ADDRESSES AND PHONE NUMBERS OF PLAC
 ES LISTED CLICK HERE FOR OUR BAND/DJ PAGE TO FIND DESCRIPTION OF THE B
 ANDS AND LINKS TO THEIR WEB PAGES\nBookings can change at the last min
 ute, so we recommend checking with the venue before heading out!\n\nFo
 r more information visit https://vbnightlife.com/events/click-here-for
 -wednesday-11-16-11-virginia-beach-entertainment-li
DTSTART:20111116T050000Z
DTEND:20111117T045900Z
CATEGORIES:"virginia beach entertainment", "virginia beach nightlife",
  "virginia beach bands"
LOCATION:\"Virginia Beach\"
WEBSITE:
URL:
CONTACT:
ORGANIZER;CN="VBnightlife.com":https://vbnightlife.com/profile/admin
ATTACH;FMTTYPE="image/jpeg":http://storage.ning.com/topology/rest/1.0/
 file/get/1664153707?profile=original
ATTENDEE;ROLE=REQ-PARTICIPANT;PARTSTAT=ACCEPTED;RSVP=TRUE;CN="VBnightl
 ife.com":https://vbnightlife.com/profile/admin
ATTENDEE;ROLE=REQ-PARTICIPANT;PARTSTAT=TENTATIVE;RSVP=TRUE;CN=Chenley:
 https://vbnightlife.com/profile/Chenley
END:VEVENT
END:VCALENDAR
