BEGIN:VCALENDAR
PRODID:NingEventWidget-v1
VERSION:2.0
METHOD:PUBLISH
BEGIN:VEVENT
UID:2508951:Event:299386
DTSTAMP:20260422T210437Z
SUMMARY:Click here for WEDNESDAY 11/12/14 VIRGINIA BEACH EVENTS & ENTE
 RTAINMENT LISTINGS
DESCRIPTION:Download the new FREE mobile app for Virginia Beach.  Sea
 rch VBnightlife in the iTunes or Google Play stores today and get a co
 mplete list of events, happy hour, restaurant recommendations, coupons
  and more! Use this link for a direct download http://onelink.to/yae3
 t5\n\nFEATURED EVENT: Jazz & Wine Jam and After Work Party at Ammos R
 estaurant - LIVE MUSIC AND $10 off Bottles of Wine at  Ammos Authent
 ic Greek Restaurant - Address and Directions: 324 N. Great Neck Road,
  Virginia Beach  - This Week Featuring Michelle King and The Blue Mil
 e\n \nLive Music:\nAbbey Road - Louis Smith  9pm\nAmmos Authentic Gr
 eek Cuisine - Live Jazz and $10 off bottles of wine 6:30 to 9:30\nEag
 les Nest - HILLTOP - Free line dance lessons, and DJ Toeknee\nFroggie
 s - Shore Drive - Trivia Night every Wednesdays Prizes with Smartmouth
   7PM \nGrumpy's - Kempsville - Karaoke 7pm\nHot Tuna -   10pm\nJak
 e's Smokehouse & BBQ - General Booth - Lunch & Early Bird Specials 11
 am to 5pm\nJerry's Chesapeake - 7pm Ladies Night w/ RnR Band - Get yo
 ur 1/2 Price Voucher for food and drink here\nKeagans - Town Center - 
 Brandon Bower Band 10pm\nNat's Sports Bar - Mediteranean - VB * OPEN M
 IC /w \"DAHNA ROWE\" 9pm\nSly Fox - Ladies Night  Drink & Food Specia
 ls\nSouth Beach Grill - The Janitors 9pm\nStan's American Bistro -  
 $4 House Wines Till 9pm. See all Happy Hour listings on the Mobile App
 \nWing King Rosemont Rd - Open Mic w/ Dana & Sergio 9pm\nWing King Kem
 psville - Trivia Night 7pm; Rudy & Kelly Night featuring Kaboombox 9:3
 0opm\nWoody McGees - Terry Kemp 9pm\n\nOther Events:  \nColonial Shoo
 ting Academy: Concealed Carry Night - Every Wednesday from 5PM-8PM b
 ring your concealment permit and receive 25% off a full priced lane re
 ntal. \n \n\nFor more information visit https://vbnightlife.com/even
 ts/click-here-for-wednesday-11-12-14-virginia-beach-events-entertain
DTSTART:20141112T050000Z
DTEND:20141113T045900Z
CATEGORIES:"virginia beach events", "virginia beach nightlife", "event
 s in virginia beach", "\"happy", hour, in, virginia, "beach'"
LOCATION:Virginia Beach, VA
WEBSITE:
URL:
CONTACT:
ORGANIZER;CN="VBnightlife.com":https://vbnightlife.com/profile/admin
ATTACH;FMTTYPE="image/jpeg":http://storage.ning.com/topology/rest/1.0/
 file/get/1664255819?profile=original
ATTENDEE;ROLE=REQ-PARTICIPANT;PARTSTAT=ACCEPTED;RSVP=TRUE;CN="VBnightl
 ife.com":https://vbnightlife.com/profile/admin
END:VEVENT
END:VCALENDAR
