BEGIN:VCALENDAR
PRODID:NingEventWidget-v1
VERSION:2.0
METHOD:PUBLISH
BEGIN:VEVENT
UID:2508951:Event:317272
DTSTAMP:20260424T074609Z
SUMMARY:Click here for WEDNESDAY 11/11/15 VIRGINIA BEACH EVENTS & ENTE
 RTAINMENT LISTINGS
DESCRIPTION:Download the new FREE mobile app for Virginia Beach. Â Sea
 rch VBnightlifeÂ in the app stores!\n\nSpecial Events\nÂ Colonial Shoo
 ting Academy:Â Learn to Shoot with VBnightlifeÂ http://vbnightlife.com
 /events/learn-to-shoot-night-at-colonial-shooting-academy-only-29-less
 \nMuseum of Contemporary Art (MOCA) Now on Exhibit\nÂ \nLive Entertain
 ment\nBoneshakers -Â Karaoke w/ DJ EZ Ed 7p\nEagles Nest - Cowboy Troy
 's Veteran's Day Bash 7p\nFroggies -Shore Drive -Â The TikiÂ Bar BandÂ
  7p\nHot Tuna -Shore Drive- TBA 9:30p\nJerry's Chesapeake - 7pm Ladies
  Night with TNT Karaoke\nKeagans Irish Pub- Town Center-Â Diego & Frie
 nds 10p\nLongshots Billiards & Darts- Chesapeake- Free Texas Holdem Po
 ker at 7 & 9; Free to Play\nMurphy's Irish Pub -Â Strange RootzÂ 8p\nR
 Y Lounge - Oceanfront - DJ & Dancing 10p\nSouth Beach Grill -Â Snackba
 r Jones 9p\nTapped GastropubÂ -Â Hilltop -Â John SmallwoodÂ 9p\nWing K
 ing - Rosemont -Â Open Mic w/Dana & SergioÂ 8:30p Â COUPON\nWing King 
 - Kempsville -Â Trivia 7pm +Â Open Mic 9p Â COUPON\nWoody McGees - Hol
 land Road -Â Â Mike GombasÂ & Chris Kendrick 9p\n\n\nFor more informat
 ion visit https://vbnightlife.com/events/click-here-for-wednesday-11-1
 1-15-virginia-beach-events-entertain
DTSTART:20151111T050000Z
DTEND:20151112T045900Z
CATEGORIES:"virginia beach events", "virginia beach nightlife", "event
 s in virginia beach", "\"happy", hour, in, virginia, "beach'"
LOCATION:Virginia Beach, VA
WEBSITE:
URL:
CONTACT:
ORGANIZER:VBnightlife.com / vbdaylife
ATTACH;FMTTYPE="image/jpeg":http://storage.ning.com/topology/rest/1.0/
 file/get/1664289610?profile=original
ATTENDEE;ROLE=REQ-PARTICIPANT;PARTSTAT=ACCEPTED;RSVP=TRUE;CN="VBnightl
 ife.com":https://vbnightlife.com/profile/admin
END:VEVENT
END:VCALENDAR
