BEGIN:VCALENDAR
PRODID:NingEventWidget-v1
VERSION:2.0
METHOD:PUBLISH
BEGIN:VEVENT
UID:2508951:Event:263592
DTSTAMP:20260422T005834Z
SUMMARY:Click here for WEDNESDAY 10/30/13 VIRGINIA BEACH ENTERTAINMENT
  LISTINGS
DESCRIPTION:LIVE ENTERTAINMENT/ DJ’S/ KARAOKE:\nBahama Breeze- Aaron
  Firestone 5pm-8pm, Dustin Furlow 8pm-11pm\nBoneshakers Sports Bar and
  Grill – Halloween Party w/ Krunch 8pm-12am\nCactus Jacks – Loca
 ls Night w/ 25% off all day ft. Steve Forss 6pm-9pm\nFinn McCools- Kar
 aoke 9pm\nGrumpys- Karaoke 7:30pm\nIl Giardino – Billy Batte 7pm\nIn
 land Reef- Brent Shepard 7pm-10pm\nJewish Mother Hilltop- 138 Misfits 
 Tribute\nKeagans- Brandon Bower 10pm\nSandbridge Island Grill- Mike De
 Moss 9pm\nScotty Quixx - Birdneck Rd - Dave Derring + Costume contest 
 10:30\nSouth Beach Grill- Brian Grilli Band 9pm\nTradewinds- Lewis McG
 ehee 7pm-10pm\nWing King- Open Mic 9pm\nWoody McGees Barstro – Luke
  Taylor 9:30pm\n \nSPECIAL EVENTS/CONCERTS/ FESTIVALS:\nHorror at the
  Beach - Near Hilltop - Details and Discount Tickets here\nHaunted Hal
 loween Fest- Hunt Club Farms\nVirginia Stage Company ‘Woman In Black
 ’- Wells Theatre\nBullet for My Valentine- The Norva 6:30pm\n \n \
 nCLICK HERE FOR THE BEST DEALS & COUPONS IN VIRGINIA BEACH FEATURING 
 EXCLUSIVE BARGAINS\n \nCLICK HERE FOR HAPPY HOUR DEALS FEATURING SEVE
 RAL LOCAL RESTAURANTS DAILY SPECIALS\n \nCLICK HERE REACH OUR VENUE'S
  PAGE TO FIND ADDRESSES AND PHONE NUMBERS OF PLACES LISTED\n \nCLICK
  HERE FOR OUR BAND/DJ PAGE TO FIND DESCRIPTION OF THE BANDS AND LINKS
  TO THEIR WEB PAGES\n\nFor more information visit https://vbnightlife.
 com/events/click-here-for-wednesday-10-30-13-virginia-beach-entertainm
 ent-li
DTSTART:20131030T040000Z
DTEND:20131031T035900Z
CATEGORIES:"virginia beach", "virginia beach nightlife", "virginia bea
 ch bands", "virginia beach entertainment"
LOCATION:Virginia Beach, VA
WEBSITE:
URL:
CONTACT:
ORGANIZER;CN="VBnightlife.com":https://vbnightlife.com/profile/admin
ATTACH;FMTTYPE="image/jpeg":http://storage.ning.com/topology/rest/1.0/
 file/get/1664209446?profile=original
ATTENDEE;ROLE=REQ-PARTICIPANT;PARTSTAT=ACCEPTED;RSVP=TRUE;CN="VBnightl
 ife.com":https://vbnightlife.com/profile/admin
END:VEVENT
END:VCALENDAR
