BEGIN:VCALENDAR
PRODID:NingEventWidget-v1
VERSION:2.0
METHOD:PUBLISH
BEGIN:VEVENT
UID:2508951:Event:298798
DTSTAMP:20260422T061206Z
SUMMARY:Click here for WEDNESDAY 10/29/14 VIRGINIA BEACH EVENTS & ENTE
 RTAINMENT LISTINGS
DESCRIPTION:Download the new FREE mobile app for Virginia Beach. Â Sea
 rch VBnightlife in the iTunes or Google Play stores today and get a co
 mplete list of events, happy hour, restaurant recommendations, coupons
  and more! Use this link for a direct downloadÂ http://onelink.to/yae3
 t5\n\nFEATURED EVENT:Â Jazz & Wine Jam and After Work Party at Ammos R
 estaurantÂ - LIVE MUSIC AND $10 off Bottles of Wine at Â Ammos Authent
 ic Greek Restaurant - Address and Directions:Â 324 N. Great Neck Road,
  Virginia BeachÂ Â \nÂ \nLive Music:\nAbbey Road - Louis Smith Â 9pm\n
 Eagles Nest - HILLTOP - Free Line Dance Lessons; Cody Austin Live Â \n
 Finn McCool's - Princess Anne - Ladies Night w/ Karaoke 9pm\nFroggies 
 - Shore Drive - Trivia Night every Wednesdays Prizes with Smartmouth Â
  7PMÂ \nGrumpy's - Kempsville - Karaoke 7pm\nHot Tuna - Snackbar Jones
  10pm\nJake's Smokehouse & BBQ - General Booth -Â Lunch & Early Bird S
 pecials 11am to 5pm\nJerry's Chesapeake - 7pm Ladies Night w/ Rocking 
 Ronnie Jean -Â Get your 1/2 Price Voucher for food and drink here\nKea
 gans - Town Center - Brandon Bower Band 10pm\nNat's Sports Bar - Medit
 eranean - VB * OPEN MIC /w \"DAHNA ROWE\" 9pm\nPoppa's Pub - Diamond S
 prings Rd - Karaoke 9:30pm\nShaka's - 21st Street - Agent Orange w/ th
 e Architects 7pm\nSly Fox - Ladies Night - DJ Joe 8pm and Drink Specia
 ls\nSouth Beach Grill - Buckshot 9pm\nStan's American BistroÂ - Â $4 H
 ouse Wines Till 9pm. See all Happy Hour listings on the Mobile App\nWi
 ng King Rosemont Rd - Open Mic w/ Dana & Sergio 9pm\nWing King Kempsvi
 lle - Trivia Night 7pm; Rudy & Kelly Night featuring Kaboombox 9:30opm
 \nWoody McGees - Dave Johnson 9pm\n\nOther Events:Â \nDr. Eben Alexand
 er at The Forum at the Sandler Center\nColonial Shooting Academy:Â Con
 cealed Carry Night -Â Every Wednesday from 5PM-8PM bring your concealm
 ent permit and receive 25% off a full priced lane rental.Â \n\nHaunted
  Hunt Club Farm - DJ and Barn Party - Haunted Hayride and more. $10 of
 f with this deal:Â www.VBhotdeals.com\nZombie Paintball Outing - Every
  weekend thru November 1st: Â www.VBhotdeals.comÂ Â \n\n\nFor more inf
 ormation visit https://vbnightlife.com/events/click-here-for-wednesday
 -10-29-14-virginia-beach-events-entertain
DTSTART:20141029T040000Z
DTEND:20141030T035900Z
CATEGORIES:"virginia beach events", "virginia beach nightlife", "event
 s in virginia beach", "\"happy", hour, in, virginia, "beach'"
LOCATION:Virginia Beach, VA
WEBSITE:
URL:
CONTACT:
ORGANIZER;CN="VBnightlife.com":https://vbnightlife.com/profile/admin
ATTACH;FMTTYPE="image/jpeg":http://storage.ning.com/topology/rest/1.0/
 file/get/1664252094?profile=original
ATTENDEE;ROLE=REQ-PARTICIPANT;PARTSTAT=ACCEPTED;RSVP=TRUE;CN="VBnightl
 ife.com":https://vbnightlife.com/profile/admin
END:VEVENT
END:VCALENDAR
