BEGIN:VCALENDAR
PRODID:NingEventWidget-v1
VERSION:2.0
METHOD:PUBLISH
BEGIN:VEVENT
UID:2508951:Event:171538
DTSTAMP:20260420T110524Z
SUMMARY:Click here for WEDNESDAY 10/05/11 VIRGINIA BEACH ENTERTAINMENT
  LISTING
DESCRIPTION:ENTERTAINMENT:\nGreen Onion- Live Music (Various Artists)\
 nHot Tuna - VB \"SNACKBAR JONES\nIL Giardino- Live Entertainment in th
 e Lounge w/ Mr. Billy Batte- 7PM\nJewish Mother- \"THE AGGROLITES\", +
  \"ROOTS OF CREATION\" + \"JACKMOVE\" + more\nSouth Beach Grill - VB \
 "HOTCAKES\"\nNats- DAVE WALTRIP AND NICK THOMAS\nTiki-COMEDY FACTOR WE
 DNESDAY-8:30-11:50\nDJâ€™S/KARAOKE/DANCES:\nAbbey Road â€“ *BEATLES KA
 RAOKE* w/ TIM BEASLEY as JOHN LENNON 9:30PMRetro Cafe- BEER PONG WET B
 ALLS WEDNESDAY 10pm\nBayside Bar and Grill - DJ\nBrass Bell - *KARAOKE
 * 9PMChichoâ€™s 29th - *KARAOKEFat Tuesdayâ€™s - *KARAOKE*\nGeared Up 
 Rock Bar - KARAOKE & Rock band IIIGuads Town Center - CHEAP THRILLS\nM
 ax & Ermaâ€™s - *KARAOKE*Parlays - *KARAOKE*Poppaâ€™s Pub - *KARAOKE* 
 9:30PM\nJewish Mother- MOMS KARAOKE 8pm\nÂ Scooterâ€™s - *KARAOKE*Smac
 kwater Jackâ€™s - *KARAOKE*\nWannaB's- KARAOKE 7 PM - 2 AM Â Monday - 
 Saturday (21 and Older)Â \nShakas- WOBBLE WEDNESDAYS - BAR OLYMPICS\nÂ
  \n\nCLICK HERE FOR HAPPY HOUR DEALS\n\n\nFor more information visit h
 ttps://vbnightlife.com/events/click-here-for-wednesday-10-05-11-virgin
 ia-beach-entertainment-li
DTSTART:20111005T040000Z
DTEND:20111006T035900Z
CATEGORIES:virginia, beach, entertainment, bands, nightlife
LOCATION:Virginia Beach
WEBSITE:
URL:
CONTACT:
ORGANIZER;CN="VBnightlife.com":https://vbnightlife.com/profile/admin
ATTACH;FMTTYPE="image/jpeg":http://storage.ning.com/topology/rest/1.0/
 file/get/1664153592?profile=original
ATTENDEE;ROLE=REQ-PARTICIPANT;PARTSTAT=ACCEPTED;RSVP=TRUE;CN="VBnightl
 ife.com":https://vbnightlife.com/profile/admin
END:VEVENT
END:VCALENDAR
