BEGIN:VCALENDAR
PRODID:NingEventWidget-v1
VERSION:2.0
METHOD:PUBLISH
BEGIN:VEVENT
UID:2508951:Event:323412
DTSTAMP:20260423T052913Z
SUMMARY:Click here for WEDNESDAY 1/20/16 VIRGINIA BEACH EVENTS & ENTER
 TAINMENT LISTINGS
DESCRIPTION:Download the new FREE mobile app for Virginia Beach.  Sea
 rch VBnightlife in the app stores!\n\nSpecial Events\nColonial Shooti
 ng Academy: Concealed Carry Night Every Wednesday from 5PM-8PM bring
  your concealment permit and receive 25% off a full priced lane rental
 \nMuseum of Contemporary Art (MOCA) Now on Exhibit\n \n\nLive Enterta
 inment\n501 City Grill - Birdneck Road -  9p\nBella Monte Restaurant 
 & Enoteca - 1201 Laskin Rd - Charlie Wiseman on 9-foot concert gra
 nd piano 6:30 to 9:30p\nBoneshakers -  9pm\nChops - Marah Strickland
  9p\nEagles Nest - Buckwild Wednesdays Free Line Dance Lessons w/Kenny
  7p\nFroggies -Shore Drive -  7p\nHot Tuna -Shore Drive - Johnny Smal
 lwood Acoustic 7:30 to 9:30p & DJ Boisey10p\nJerry's Chesapeake - Ladi
 es Night w/ TNT Karaoke\nKeagans Irish Pub- Town Center- DJ Dexx 10p\
 nLongshots Billiards & Darts- Chesapeake- Karaoke & Free Texas Holdem 
 Poker at 7 & 9; Free to Play\nMurphy's Irish Pub - Strange Rootz 9p\nR
 Y Lounge - Oceanfront - DJ & Dancing 10p\nSouth Beach Grill - 9p\nTapp
 ed Gastropub - Hilltop -  9p\nWaterman's - 9p\nWing King - Rosemont
  - Open Mic w/Dana & Sergio 8:30p  COUPON\nWing King - Kempsville -
  Trivia 7pm  COUPON\nWoody McGees - Holland Road -  9p\n\n\nFor mor
 e information visit https://vbnightlife.com/events/click-here-for-wedn
 esday-1-20-16-virginia-beach-events-entertainm
DTSTART:20160120T050000Z
DTEND:20160121T045900Z
CATEGORIES:"virginia beach events", "virginia beach nightlife", "event
 s in virginia beach", "\"happy", hour, in, virginia, "beach'"
LOCATION:Virginia Beach, VA
WEBSITE:
URL:
CONTACT:
ORGANIZER:VBnightlife.com / vbdaylife
ATTACH;FMTTYPE="image/jpeg":http://storage.ning.com/topology/rest/1.0/
 file/get/1664295726?profile=original
ATTENDEE;ROLE=REQ-PARTICIPANT;PARTSTAT=ACCEPTED;RSVP=TRUE;CN="VBnightl
 ife.com":https://vbnightlife.com/profile/admin
END:VEVENT
END:VCALENDAR
