BEGIN:VCALENDAR
PRODID:NingEventWidget-v1
VERSION:2.0
METHOD:PUBLISH
BEGIN:VEVENT
UID:2508951:Event:186102
DTSTAMP:20260423T104955Z
SUMMARY:Click here for WEDNESDAY 1/18/12 VIRGINIA BEACH ENTERTAINMENT 
 LISTINGS
DESCRIPTION:LIVE ENTERTAINMENT\nBaker Street- Cheaper than Sunday\nH20
 - Lewis McGehee, 7-10PM\nHot Tuna- Snackbar Jones, 9PM\nHavanah Nights
 - Woody Beckner Duo\nKeagans- Jesse Chong, 10PM\nKnuckleheads- Live Mu
 sic\nKrossroads- West & Daniels\nSouth Beach Grill- Vinyl Headlights\n
 Wyndham Surf Club- Brent Shepard, 6-8:30PM\n\nTHEATRE/FUNDRAISERS/CONC
 ERTS/SPORTS:\nFunny Bone Comedy Club -Averell Carter, Malik S Comedy H
 ustle\nWells Theatre- Black Pearl Sings, 7PM\n\nDJ’S/KARAOKE/DANCES:
 \nAJ Gators- Karaoke w/ Scotty, 9PM\nBrass Bell- Karaoke\nRetro Cafe- 
 Karaoke\nCabo- DJ Bryan One & Tias\nChicho’s 29th - *KARAOKE\nFinn M
 cCools- Karaoke\nFlashbacks- Karaoke\nGeared Up- Karaoke & Rockband II
 I\nHot Tuna - DJ\nPoppa’s Pub - *KARAOKE* 9:30PM\nJewish Mother- MOM
 S KARAOKE 8pm\nStarz- Karaoke\nWoodys- Beer Pong Tournament ($150 Cash
  Prize), 10PM\nWannaBs- Karaoke, 7PM-2AM (Monday-Saturday, 21+)\n\nFAM
 ILY FUN/SPECIAL EVENTS\nSurf Club- Wine Tasting feat. Brent Shepard, 6
 -8PM\nVirginia Beach Restaurant Week\nLittle Theatre of Virginia Beach
 - Getting Away with Murder (through February 5th) \n\nCLICK HERE FOR 
 HAPPY HOUR DEALS\nCLICK HERE REACH OUR VENUE'S PAGE \nCLICK HERE FOR O
 UR BAND/DJ PAGE\n\nFor more information visit https://vbnightlife.com/
 events/click-here-for-wednesday-1-18-12-virginia-beach-entertainment-l
 is
DTSTART:20120118T050000Z
DTEND:20120119T045900Z
CATEGORIES:"virginia beach bands", "virginia beach entertainment", "vi
 rginia beach nightlife"
LOCATION:Virginia Beach
WEBSITE:
URL:
CONTACT:
ORGANIZER;CN="VBnightlife.com":https://vbnightlife.com/profile/admin
ATTACH;FMTTYPE="image/jpeg":http://storage.ning.com/topology/rest/1.0/
 file/get/1664161947?profile=original
ATTENDEE;ROLE=REQ-PARTICIPANT;PARTSTAT=ACCEPTED;RSVP=TRUE;CN="VBnightl
 ife.com":https://vbnightlife.com/profile/admin
END:VEVENT
END:VCALENDAR
