BEGIN:VCALENDAR
PRODID:NingEventWidget-v1
VERSION:2.0
METHOD:PUBLISH
BEGIN:VEVENT
UID:2508951:Event:23457
DTSTAMP:20260422T060807Z
SUMMARY:click here for TUESDAY'S BANDS / NIGHTLIFE / ENTERTAINMENT LIS
 TING
DESCRIPTION:Abbey Road - VB - OPEN STAGE /w \"KARL WERNE\"\nBayside In
 n - VB *Acoustic and Vocal Musicians Expo* \"DIANE BROUILET\" 8:30pm\n
 Cabo - VB *DJ SERGE*\nCentral 111 VB - DJ JOE FU ROCKSTAR TUESDAYS\nCl
 utch Bar & Grill - *KARAOKE*\nColley Cantina - N \"THINKING CAP TRIO\"
 \nFat Tuesays - VB *KARAOKE*\nFinn McCool's - VB *KARAOKE*\nGreen Oak 
 Pub - VB \"TREVOR PHILIPP\"\nH2O - VB *DJ JAYONE* Dance/Music\nKeagans
  - Town Center - VB \"LEMON DISH\" 10pm\nLunasea - VB \"JESSE CHONG\"\
 nMurphy's Irish Pub - VB \"JOHN ICKES\"\nNorva - N \"GRIZZLY BEAR\"\nO
 'Sullivans - N \"LEWIS McGEHEE\"\nSammy's - VB *KARAOKE*\nSecrets - VB
  *KARAOKE*\nScotty Quixx - VB \"NATURE'S CHILD\" 10pm\nStarz - VB *KAR
 AOKE*\n\nFor more information visit https://vbnightlife.com/events/cli
 ck-here-for-tuesdays-bands-4
DTSTART:20091006T040000Z
DTEND:20091007T035900Z
CATEGORIES:band, "/", dj, karaoke
LOCATION:Virginia Beach / Norfolk
WEBSITE:
URL:
CONTACT:
ORGANIZER;CN="VBnightlife.com":https://vbnightlife.com/profile/admin
ATTACH;FMTTYPE="image/jpeg":http://storage.ning.com/topology/rest/1.0/
 file/get/1664086512?profile=original
ATTENDEE;ROLE=REQ-PARTICIPANT;PARTSTAT=ACCEPTED;RSVP=TRUE;CN=Mark:http
 s://vbnightlife.com/profile/Mark757
ATTENDEE;ROLE=REQ-PARTICIPANT;PARTSTAT=ACCEPTED;RSVP=TRUE;CN="VBnightl
 ife.com":https://vbnightlife.com/profile/admin
END:VEVENT
END:VCALENDAR
