BEGIN:VCALENDAR
PRODID:NingEventWidget-v1
VERSION:2.0
METHOD:PUBLISH
BEGIN:VEVENT
UID:2508951:Event:10635
DTSTAMP:20260425T130004Z
SUMMARY:click here for TUESDAY'S BAND / EVENTS LISTING
DESCRIPTION:Abbey Road - VB - OPEN STAGE /w \"KARL WERNE\nAJ Gators - 
 Karaoke @9pm\nAvanti - HAPPY HOUR 6-9\nBayside Inn - ACOUSTIC & VOCAL 
 MUSICIANS EXPO\nCentral 111 - THE RETAILERS and DJ JOE FU\nCabo - HAPP
 Y HOUR TILL 9; 25cent wings\nFresh - DKR\nGordon Biersch - VB \"RICH W
 HISKEY AUDITION\nGreen Parrot Grille - HAPPY HOUR 12PM TO 8PM\nHalf Sh
 ell - ACES PLACES TEXAS HOLDEM TOURNAMENT\nJewish Mother - VB \"MATT W
 ERTZ\"\nKeagans - Town Center - HAPPY HOUR 5 TO7; LEMON DISH\" 10pm\nK
 eagans Pub & Grill - VB \"STEVE FORSS\" 10pm\nLunasea - VB JESSE CHONG
 \nMurphy's Irish Pub - VB \"VAL LITTLE\"\nNorva - Norfolk \"WALE\nPepp
 ermint Beach Club - FLATFOOT 56 WITH FAR FROM FINISHED\n\nFor more inf
 ormation visit https://vbnightlife.com/events/click-here-for-tuesdays-
 band
DTSTART:20090407T040000Z
DTEND:20090408T035900Z
CATEGORIES:live, music
LOCATION:Virginia Beach
WEBSITE:
URL:
CONTACT:
ORGANIZER;CN="Nicole Maxino":https://vbnightlife.com/profile/NicoleMax
 ino
ATTACH;FMTTYPE="image/jpeg":http://storage.ning.com/topology/rest/1.0/
 file/get/1664072904?profile=original
ATTENDEE;ROLE=REQ-PARTICIPANT;PARTSTAT=ACCEPTED;RSVP=TRUE;CN="Nicole M
 axino":https://vbnightlife.com/profile/NicoleMaxino
END:VEVENT
END:VCALENDAR
