BEGIN:VCALENDAR
PRODID:NingEventWidget-v1
VERSION:2.0
METHOD:PUBLISH
BEGIN:VEVENT
UID:2508951:Event:14076
DTSTAMP:20260425T113516Z
SUMMARY:click here for TUESDAY'S BAND/ EVENT LISTING
DESCRIPTION:Abbey Road - VB - OPEN STAGE /w \"KARL WERNE\nCentral 111 
 - ROCKSTAR TUESDAYS WITH THE ATLANTIC, DJ JOE FU & DJ SMITH ON THE DRU
 MS\nColley Cantina - Norfolk \"MUCKRAKES\nFresh Tapas and Tonics - DAV
 E, KATE AND ROSS\nKeagans - Town Center - VB 10pm \"LEMON DISH\" 10pm\
 nLunasea - VB \"JESSE CHONG\nMurphy's Irish Pub - VB \"JOHN ICKES\"\nN
 orva - Norfolk \"GAELIC STORM\"\nO'Sullivans - Norfolk \"LEWIS McGEHEE
 \nSnappers On Granby Snappers - A.Y.C.E Crablegs & Shrimp Tonight & ev
 ery Tuesday! Super Cheap Happy Hour & Buckets O' Beer\nTiki Seagrille 
 - Sandbridge Rd - VB \"JOHN BALDWIN DUO\"\n\nOUTDOOR EVENTS\n24th STRE
 ET STAGE - VB \"GATORHEAD\n31ST street stage - LEWIS McGHEE\n\nFor mor
 e information visit https://vbnightlife.com/events/click-here-for-tues
 days-band-7
DTSTART:20090602T040000Z
DTEND:20090603T035900Z
CATEGORIES:band
LOCATION:Virginia Beach
WEBSITE:
URL:
CONTACT:
ORGANIZER;CN="Nicole Maxino":https://vbnightlife.com/profile/NicoleMax
 ino
ATTACH;FMTTYPE="image/jpeg":http://storage.ning.com/topology/rest/1.0/
 file/get/1664074841?profile=original
ATTENDEE;ROLE=REQ-PARTICIPANT;PARTSTAT=ACCEPTED;RSVP=TRUE;CN="Nicole M
 axino":https://vbnightlife.com/profile/NicoleMaxino
END:VEVENT
END:VCALENDAR
