BEGIN:VCALENDAR
PRODID:NingEventWidget-v1
VERSION:2.0
METHOD:PUBLISH
BEGIN:VEVENT
UID:2508951:Event:13894
DTSTAMP:20260420T172839Z
SUMMARY:click here for TUESDAY'S BAND / EVENTS LISTING
DESCRIPTION:Abbey Road - VB - OPEN STAGE /\"KARL WERNE\nCentral 111 - 
 ROCKSTAR TUESDAYS W/ DJ JOE FU\nClub Relevant - DEEZ NUTS with LIGEIA\
 nGil's Bar and Grill - LIGEIA\nJewish Mother - VB \"ACADEMY OF ROCK\nK
 eagans - Town Center - VB \"LEMON DISH\" 10pm\nKeagans Sports Pub - VB
  \"STEVE FORSS\" 10pm\nLunasea - VB \"JESSE CHONG\nMurphy's Irish Pub 
 - VB \"JAMES WEST\"\nMo & O'Malleys - Norfolk \"DAVE CRUMPLER\"\nO'Sul
 livans - Norfolk \"LEWIS McGEHEE\nTiki Seagrille - Sandbridge Rd - VB 
 \"ED KELLEHER\"\n\nOUTDOOR EVENTS\n31st STREET STAGE\" - VB \"JACK BEC
 KER\"\n\nFor more information visit https://vbnightlife.com/events/cli
 ck-here-for-tuesdays-band-6
DTSTART:20090526T040000Z
DTEND:20090527T035900Z
CATEGORIES:band, dj
LOCATION:virginia beach
WEBSITE:
URL:
CONTACT:
ORGANIZER;CN="Nicole Maxino":https://vbnightlife.com/profile/NicoleMax
 ino
ATTACH;FMTTYPE="image/jpeg":http://storage.ning.com/topology/rest/1.0/
 file/get/1664075577?profile=original
ATTENDEE;ROLE=REQ-PARTICIPANT;PARTSTAT=ACCEPTED;RSVP=TRUE;CN="Wm. J. L
 eonard, Jr.":https://vbnightlife.com/profile/WmJLeonardJr
ATTENDEE;ROLE=REQ-PARTICIPANT;PARTSTAT=ACCEPTED;RSVP=TRUE;CN="Nicole M
 axino":https://vbnightlife.com/profile/NicoleMaxino
END:VEVENT
END:VCALENDAR
