BEGIN:VCALENDAR
PRODID:NingEventWidget-v1
VERSION:2.0
METHOD:PUBLISH
BEGIN:VEVENT
UID:2508951:Event:13187
DTSTAMP:20260425T173618Z
SUMMARY:click here for TUESDAY'S BAND / EVENTS LISTING
DESCRIPTION:Abbey Road - VB - OPEN STAGE /\"KARL WERNE\nGreen Oaks Pub
  - SIMPLY TREVOR\nKeagan's Sports Bar - STEVE FORSS\nLunasea - VB \"JE
 SSE CHONG\nNorva - Norfolk \"SNOOP DOG\"\nO'Sullivans - Norfolk \"LEWI
 S McGEHEE\nScotty Quixx - NATURE'S CHILD\nTiki Seagrille - WARREN SEAB
 URG\nTime Lounge - DJ EL CAPONE\n\nFor more information visit https://
 vbnightlife.com/events/click-here-for-tuesdays-band-4
DTSTART:20090512T040000Z
DTEND:20090513T035900Z
CATEGORIES:band
LOCATION:Virginia Beach / Norfolk
WEBSITE:
URL:
CONTACT:
ORGANIZER;CN="Nicole Maxino":https://vbnightlife.com/profile/NicoleMax
 ino
ATTACH;FMTTYPE="image/jpeg":http://storage.ning.com/topology/rest/1.0/
 file/get/1664073457?profile=original
ATTENDEE;ROLE=REQ-PARTICIPANT;PARTSTAT=ACCEPTED;RSVP=TRUE;CN="Nicole M
 axino":https://vbnightlife.com/profile/NicoleMaxino
END:VEVENT
END:VCALENDAR
