BEGIN:VCALENDAR
PRODID:NingEventWidget-v1
VERSION:2.0
METHOD:PUBLISH
BEGIN:VEVENT
UID:2508951:Event:17051
DTSTAMP:20260425T191406Z
SUMMARY:click here for TUESDAY'S BAND / NIGHTLIFE LISTING
DESCRIPTION:Abbey Road - VB - OPEN STAGE /w \"KARL WERNE\"\nAvanti - T
 RUTH SESSIONS W/ DJ ABITBOL\nBrass Bell - VB \"ACOUSTAHOLICS\"\nChicho
 s - Block - VB - NATURE'S CHILD\nFresh Tapas & Tonic - DKR (DAVE, KATE
  AND ROSS)\nJewish Mother - VB \"ROGER CLYNE & THE PACEMAKERS\"\nKeaga
 ns - VB Town Center \"LEMONDISH\" 10pm\nKeagans Pub & Grill - VB \"STE
 VE FORSS\"\nLight House Restaurant VB \"ED KELLEHER\" 8-11pm\nLunasea 
 - VB \"JESSE CHONG\"\nMurphy's Irish Pub - JAMES WEST\nNorva - N \"K'N
 AAN\"\nScotty Quixx - NATURE'S CHILD 10PM\nShore Break Pizza,- 7pm for
  the official Warped Tour Pre-Party with Forever The Sickest Kids,\n\n
 OUTDOOR EVENTS\n7th STREET STAGE - VB \"VINYL HEADLIGHTS\"\n17th STREE
 T STAGE - VB \"THE BEST OF BEACHSTREET:\n13th STREET STAGE - VB \"THE 
 LIFE AND MUSIC OF ELLA FITZGERALD\" 7pm., 8pm., & 9pm.\n24th STREET ST
 AGE - VB \"US FLEET FORCES BAND FOUR STAR EDITION\" 8-10pm\n25th STREE
 T PARK - VB \"WRECK OF THE DICTATOR\"8:30pm, 9:15pm. & 10pm.\n31st STR
 EET STAGE - VB \"LEWIS McGEHEE\" 6pm\nOCEAN HOUSE - VB \"THE NATIVES\"
  Acoustic\n\nFor more information visit https://vbnightlife.com/events
 /click-here-for-tuesdays-band-14
DTSTART:20090721T040000Z
DTEND:20090722T035900Z
CATEGORIES:band, "/", dj
LOCATION:VB / Norfolk
WEBSITE:
URL:
CONTACT:
ORGANIZER;CN="VBnightlife.com":https://vbnightlife.com/profile/admin
ATTACH;FMTTYPE="image/jpeg":http://storage.ning.com/topology/rest/1.0/
 file/get/1664079705?profile=original
ATTENDEE;ROLE=REQ-PARTICIPANT;PARTSTAT=ACCEPTED;RSVP=TRUE;CN="VBnightl
 ife.com":https://vbnightlife.com/profile/admin
END:VEVENT
END:VCALENDAR
